BEGIN:VCALENDAR
VERSION:2.0
PRODID:-//Utah – South Jordan - ECPv6.5.1.5//NONSGML v1.0//EN
CALSCALE:GREGORIAN
METHOD:PUBLISH
X-WR-CALNAME:Utah – South Jordan
X-ORIGINAL-URL:https://bricksandminifigs.com/southjordan-ut
X-WR-CALDESC:Events for Utah – South Jordan
REFRESH-INTERVAL;VALUE=DURATION:PT1H
X-Robots-Tag:noindex
X-PUBLISHED-TTL:PT1H
BEGIN:VTIMEZONE
TZID:America/Denver
BEGIN:DAYLIGHT
TZOFFSETFROM:-0700
TZOFFSETTO:-0600
TZNAME:MDT
DTSTART:20180311T090000
END:DAYLIGHT
BEGIN:STANDARD
TZOFFSETFROM:-0600
TZOFFSETTO:-0700
TZNAME:MST
DTSTART:20181104T080000
END:STANDARD
BEGIN:DAYLIGHT
TZOFFSETFROM:-0700
TZOFFSETTO:-0600
TZNAME:MDT
DTSTART:20190310T090000
END:DAYLIGHT
BEGIN:STANDARD
TZOFFSETFROM:-0600
TZOFFSETTO:-0700
TZNAME:MST
DTSTART:20191103T080000
END:STANDARD
END:VTIMEZONE
BEGIN:VEVENT
DTSTART;VALUE=DATE:20191118
DTEND;VALUE=DATE:20200101
DTSTAMP:20260424T050754
CREATED:20191119T135832Z
LAST-MODIFIED:20191119T140208Z
UID:4066-1574035200-1577836799@bricksandminifigs.com
SUMMARY:Basement Blowout Sale
DESCRIPTION:Join us for our Basement Blowout Sale!!! This sale includes: \n-Buy 1 get 1 HALF OFF of select new In-Box Sets\n-Buy 1 get 1 HALF OFF Bulk\n-Miscellaneous Bargain shelf where you can find great deals on a variety of LEGO® product\n-Build-A-Fig with access to thousands of special LEGO® minifig parts  \nFor more information check out our social media!!!
URL:https://bricksandminifigs.com/southjordan-ut/event/basement-blow-sale/
LOCATION:Bricks & Minifigs Sout Jordan\, 1086 W South Jordan Parkway\, Ste 105\, South Jordan\, UT\, 84095\, United States
ORGANIZER;CN="Bricks &amp%3B Minifigs South Jordan":MAILTO:southjordan@bricksandminifigs.com
END:VEVENT
BEGIN:VEVENT
DTSTART;TZID=America/Denver:20191109T140000
DTEND;TZID=America/Denver:20191109T150000
DTSTAMP:20260424T050754
CREATED:20190823T195531Z
LAST-MODIFIED:20190823T195531Z
UID:3744-1573308000-1573311600@bricksandminifigs.com
SUMMARY:Club Day
DESCRIPTION:In appreciation for our club members we will be hosting a monthly “Club Day” available to Utah Bricks Club members only. \nJoin us as we discover the joy of LEGO®’s together! Club Days will include a pre-designed make & take as well as a treats!!! If you’re not able to make it you may contact the store to reserve your build and pick it up at a later time. Once the month is over\, this build will no longer be available for free as part of your club membership. \nWant to build with us? Join the Utah Bricks Club. https://bricksandminifigs.com/southjordan-ut/club/
URL:https://bricksandminifigs.com/southjordan-ut/event/club-day-12/
LOCATION:Bricks & Minifigs Sout Jordan\, 1086 W South Jordan Parkway\, Ste 105\, South Jordan\, UT\, 84095\, United States
ORGANIZER;CN="Bricks &amp%3B Minifigs South Jordan":MAILTO:southjordan@bricksandminifigs.com
END:VEVENT
BEGIN:VEVENT
DTSTART;TZID=America/Denver:20191026T180000
DTEND;TZID=America/Denver:20191026T200000
DTSTAMP:20260424T050754
CREATED:20190823T194442Z
LAST-MODIFIED:20190912T211706Z
UID:3738-1572112800-1572120000@bricksandminifigs.com
SUMMARY:Peaks Center Costume Festival
DESCRIPTION:
URL:https://bricksandminifigs.com/southjordan-ut/event/halloween-open-house-derby-trunk-treat/
LOCATION:Bricks & Minifigs Sout Jordan\, 1086 W South Jordan Parkway\, Ste 105\, South Jordan\, UT\, 84095\, United States
ORGANIZER;CN="Bricks &amp%3B Minifigs South Jordan":MAILTO:southjordan@bricksandminifigs.com
END:VEVENT
BEGIN:VEVENT
DTSTART;TZID=America/Denver:20191012T140000
DTEND;TZID=America/Denver:20191012T150000
DTSTAMP:20260424T050754
CREATED:20190604T194655Z
LAST-MODIFIED:20190604T194655Z
UID:3432-1570888800-1570892400@bricksandminifigs.com
SUMMARY:Club Day
DESCRIPTION:In appreciation for our club members we will be hosting a monthly “Club Day” available to Utah Bricks Club members only. \nJoin us as we discover the joy of LEGO®’s together! Club Days will include a pre-designed make & take as well as a treats!!! If you’re not able to make it you may contact the store to reserve your build and pick it up at a later time. Once the month is over\, this build will no longer be available for free as part of your club membership. \nWant to build with us? Join the Utah Bricks Club. https://bricksandminifigs.com/southjordan-ut/club/ \nCall to RSVP at South Jordan | 385-645-5346
URL:https://bricksandminifigs.com/southjordan-ut/event/club-day-10/
LOCATION:Bricks & Minifigs Sout Jordan\, 1086 W South Jordan Parkway\, Ste 105\, South Jordan\, UT\, 84095\, United States
ORGANIZER;CN="Bricks &amp%3B Minifigs South Jordan":MAILTO:southjordan@bricksandminifigs.com
END:VEVENT
BEGIN:VEVENT
DTSTART;TZID=America/Denver:20190928T180000
DTEND;TZID=America/Denver:20190928T210000
DTSTAMP:20260424T050754
CREATED:20190821T012154Z
LAST-MODIFIED:20190821T012154Z
UID:3730-1569693600-1569704400@bricksandminifigs.com
SUMMARY:Bulk Smash
DESCRIPTION:
URL:https://bricksandminifigs.com/southjordan-ut/event/bulk-smash-2/
LOCATION:Bricks & Minifigs Sout Jordan\, 1086 W South Jordan Parkway\, Ste 105\, South Jordan\, UT\, 84095\, United States
ORGANIZER;CN="Bricks &amp%3B Minifigs South Jordan":MAILTO:southjordan@bricksandminifigs.com
END:VEVENT
BEGIN:VEVENT
DTSTART;TZID=America/Denver:20190914T140000
DTEND;TZID=America/Denver:20190914T150000
DTSTAMP:20260424T050754
CREATED:20190604T193752Z
LAST-MODIFIED:20190910T170529Z
UID:3430-1568469600-1568473200@bricksandminifigs.com
SUMMARY:Club Day
DESCRIPTION:In appreciation for our club members we will be hosting a monthly “Club Day” available to Utah Bricks Club members only. \nJoin us as we discover the joy of LEGO®’s together! Club Days will include a pre-designed make & take as well as a treats!!! If you’re not able to make it you may contact the store to reserve your build and pick it up at a later time. Once the month is over\, this build will no longer be available for free as part of your club membership. \nWant to build with us? Join the Utah Bricks Club. https://bricksandminifigs.com/southjordan-ut/club/ \nSign up here
URL:https://bricksandminifigs.com/southjordan-ut/event/club-day-9/
LOCATION:Bricks & Minifigs Sout Jordan\, 1086 W South Jordan Parkway\, Ste 105\, South Jordan\, UT\, 84095\, United States
ORGANIZER;CN="Bricks &amp%3B Minifigs South Jordan":MAILTO:southjordan@bricksandminifigs.com
END:VEVENT
BEGIN:VEVENT
DTSTART;VALUE=DATE:20190905
DTEND;VALUE=DATE:20190908
DTSTAMP:20260424T050754
CREATED:20190604T193107Z
LAST-MODIFIED:20190829T161138Z
UID:3428-1567641600-1567900799@bricksandminifigs.com
SUMMARY:FanX
DESCRIPTION:
URL:https://bricksandminifigs.com/southjordan-ut/event/comic-con/
LOCATION:Bricks & Minifigs Sout Jordan\, 1086 W South Jordan Parkway\, Ste 105\, South Jordan\, UT\, 84095\, United States
ORGANIZER;CN="Bricks &amp%3B Minifigs South Jordan":MAILTO:southjordan@bricksandminifigs.com
END:VEVENT
BEGIN:VEVENT
DTSTART;VALUE=DATE:20190831
DTEND;VALUE=DATE:20190901
DTSTAMP:20260424T050754
CREATED:20190805T225613Z
LAST-MODIFIED:20190805T225634Z
UID:3725-1567209600-1567295999@bricksandminifigs.com
SUMMARY:FREE Labor Day Make & Take
DESCRIPTION:
URL:https://bricksandminifigs.com/southjordan-ut/event/free-labor-day-make-take/
LOCATION:Bricks & Minifigs Sout Jordan\, 1086 W South Jordan Parkway\, Ste 105\, South Jordan\, UT\, 84095\, United States
ORGANIZER;CN="Bricks &amp%3B Minifigs South Jordan":MAILTO:southjordan@bricksandminifigs.com
END:VEVENT
BEGIN:VEVENT
DTSTART;TZID=America/Denver:20190810T140000
DTEND;TZID=America/Denver:20190810T150000
DTSTAMP:20260424T050754
CREATED:20190604T191233Z
LAST-MODIFIED:20190723T205507Z
UID:3426-1565445600-1565449200@bricksandminifigs.com
SUMMARY:Club Day
DESCRIPTION:In appreciation for our club members we will be hosting a monthly “Club Day” available to Utah Bricks Club members only. \nJoin us as we discover the joy of LEGO®’s together! Club Days will include a pre-designed make & take as well as a treats!!! If you’re not able to make it you may contact the store to reserve your build and pick it up at a later time. Once the month is over\, this build will no longer be available for free as part of your club membership. \nWant to build with us? Join the Utah Bricks Club. https://bricksandminifigs.com/southjordan-ut/club/ \nSign up here
URL:https://bricksandminifigs.com/southjordan-ut/event/club-day-8/
LOCATION:Bricks & Minifigs Sout Jordan\, 1086 W South Jordan Parkway\, Ste 105\, South Jordan\, UT\, 84095\, United States
ORGANIZER;CN="Bricks &amp%3B Minifigs South Jordan":MAILTO:southjordan@bricksandminifigs.com
END:VEVENT
BEGIN:VEVENT
DTSTART;VALUE=DATE:20190809
DTEND;VALUE=DATE:20190811
DTSTAMP:20260424T050754
CREATED:20190702T015528Z
LAST-MODIFIED:20190702T015528Z
UID:3709-1565308800-1565481599@bricksandminifigs.com
SUMMARY:BAM Marathon
DESCRIPTION:
URL:https://bricksandminifigs.com/southjordan-ut/event/bam-marathon/
LOCATION:Bricks & Minifigs Sout Jordan\, 1086 W South Jordan Parkway\, Ste 105\, South Jordan\, UT\, 84095\, United States
ORGANIZER;CN="Bricks &amp%3B Minifigs South Jordan":MAILTO:southjordan@bricksandminifigs.com
END:VEVENT
BEGIN:VEVENT
DTSTART;TZID=America/Denver:20190708T100000
DTEND;TZID=America/Denver:20190712T150000
DTSTAMP:20260424T050754
CREATED:20190604T180743Z
LAST-MODIFIED:20190604T181644Z
UID:3420-1562580000-1562943600@bricksandminifigs.com
SUMMARY:Summer Camp
DESCRIPTION:Don’t know what to do with your sweet kiddos while they are out of school this summer? Looking for ways to keep their brain active even during vacation? Look no further!!!! \nAt Bricks & Minifigs we offer a Summer Camp program that will keep your littles ones busy\, entertained\, and learning! Join us for our LEGO® inspired Stop Motion Animation Camp or S.T.E.A.M Camp at either store location! \nOur Stop Motion Animation Camp will be held each day from 10 a.m- 12 p.m followed by our S.T.E.A.M Camp from 1-3 p.m!!! Click the button below to learn more about our classes and prices! \nLEARN MORE
URL:https://bricksandminifigs.com/southjordan-ut/event/summer-camp/
LOCATION:Bricks & Minifigs Sout Jordan\, 1086 W South Jordan Parkway\, Ste 105\, South Jordan\, UT\, 84095\, United States
ORGANIZER;CN="Bricks &amp%3B Minifigs South Jordan":MAILTO:southjordan@bricksandminifigs.com
END:VEVENT
BEGIN:VEVENT
DTSTART;TZID=America/Denver:20190614T170000
DTEND;TZID=America/Denver:20190614T200000
DTSTAMP:20260424T050754
CREATED:20190129T175927Z
LAST-MODIFIED:20190606T160648Z
UID:3009-1560531600-1560542400@bricksandminifigs.com
SUMMARY:Bricks & Minifigs Summer Carnival
DESCRIPTION:SCHOOL’S OUT!!!!! And in celebration we will be hosting a Summer Carnival full of LEGO games\, activities\, and derby racing!!! \nJoin us June 14\, from 5-8 p.m. for dinner\, face painting\, balloon animals\, and LEGO games! Tickets are $8.00 online or $9.00 at the door and include full access to all the activities mentioned above!!! We look forward to seeing you all there! \nGet tickets here!
URL:https://bricksandminifigs.com/southjordan-ut/event/summer-nights-derby-night/
LOCATION:Bricks & Minifigs Sout Jordan\, 1086 W South Jordan Parkway\, Ste 105\, South Jordan\, UT\, 84095\, United States
ORGANIZER;CN="Bricks &amp%3B Minifigs South Jordan":MAILTO:southjordan@bricksandminifigs.com
END:VEVENT
BEGIN:VEVENT
DTSTART;TZID=America/Denver:20190427T100000
DTEND;TZID=America/Denver:20190427T110000
DTSTAMP:20260424T050754
CREATED:20190411T172931Z
LAST-MODIFIED:20190411T172931Z
UID:3110-1556359200-1556362800@bricksandminifigs.com
SUMMARY:Brickslopes Pre- Show
DESCRIPTION:Are you pumped about Brickslopes? We sure are!!!! To get us started Brickslopes representatives will be co-hosting a Pre-show MOC contest with our local Utah Bricks and Minfigs and you’re invited!!! \nSaturday\, April 27\, 2019 bring your MOC’s in for the chance to win a variety of prizes from Brickslopes! Judging will start promptly at 11:00 a.m. so make sure your MOC is set up and ready to go prior to then! \nClick Here for More Details! \n  \n 
URL:https://bricksandminifigs.com/southjordan-ut/event/brickslopes-pre-show/
LOCATION:Bricks & Minifigs Sout Jordan\, 1086 W South Jordan Parkway\, Ste 105\, South Jordan\, UT\, 84095\, United States
ORGANIZER;CN="Bricks &amp%3B Minifigs South Jordan":MAILTO:southjordan@bricksandminifigs.com
END:VEVENT
BEGIN:VEVENT
DTSTART;TZID=America/Denver:20190413T180000
DTEND;TZID=America/Denver:20190413T210000
DTSTAMP:20260424T050754
CREATED:20190411T164654Z
LAST-MODIFIED:20190411T164654Z
UID:3107-1555178400-1555189200@bricksandminifigs.com
SUMMARY:Return of the Bulk Smash
DESCRIPTION:As the battle for Brickslopes begins we wanted to give an opportunity for all customers to have exclusive access to over 200 gallons of never been touched bulk. Join us Saturday\, April 13 from 6:00-9:00 pm for the Return of the Bulk Smash!!!! Cost is $30 for entrance and includes a pail full of Bulk of your choice. Additional pails can be purchased during the event! \nNot preparing for Brickslopes but love working on projects anyways? Join us too!!! There may even be bulk sorted by color 😉 \n  \n 
URL:https://bricksandminifigs.com/southjordan-ut/event/return-bulk-smash/
LOCATION:Bricks & Minifigs Sout Jordan\, 1086 W South Jordan Parkway\, Ste 105\, South Jordan\, UT\, 84095\, United States
ORGANIZER;CN="Bricks &amp%3B Minifigs South Jordan":MAILTO:southjordan@bricksandminifigs.com
END:VEVENT
BEGIN:VEVENT
DTSTART;TZID=America/Denver:20181119T173000
DTEND;TZID=America/Denver:20181119T190000
DTSTAMP:20260424T050754
CREATED:20181030T181434Z
LAST-MODIFIED:20181030T182612Z
UID:2626-1542648600-1542654000@bricksandminifigs.com
SUMMARY:2nd Annual Turkey Derby
DESCRIPTION:With Thanksgiving season right around the corner we wanted to announce our 2nd ANNUAL Family Turkey Derby Race! \nCome race your Thanksgiving themed Derby Car with us Monday\, November 19\, at 5:30-7 pm. ALL participants will get a special thanksgiving LEGO® prize! \nNot to mention\, other special prizes will be awarded too! \nBuild your Thanksgiving themed race car at home and bring it here\, or come prior to 5:30 and build from BULK! \nRules and Regulations:\n-Open to all ages\n-Cars must be built using only official LEGO® bricks (come early if you want to build here from our bulk).\n-Car must have an official LEGO® minifigure to be your cars driver.\n-Cars will only use axles provided by Bricks & Minifigs (2×6) \nVehicle Dimensions:\n-maximum height: 4 inches (after provided axles\, 8 bricks high)\n-maximum width: 3 inches (10 studs wide)\n-maximum length: 9 inches (30 studs long) \n$5 per entry \nRacing starts 6:00 pm sharp. Come early to get your car through tech inspection\, after which it will remain with a Bricks & Minifigs employee until racing is finished. \nPrepay by phone or in store to reserve your spot\, or show up on race day to claim an open spot if available! May the best car win!\n385-645-5346
URL:https://bricksandminifigs.com/southjordan-ut/event/2nd-annual-turkey-derby/
LOCATION:Bricks & Minifigs Sout Jordan\, 1086 W South Jordan Parkway\, Ste 105\, South Jordan\, UT\, 84095\, United States
ORGANIZER;CN="Bricks &amp%3B Minifigs South Jordan":MAILTO:southjordan@bricksandminifigs.com
END:VEVENT
END:VCALENDAR