BEGIN:VCALENDAR
VERSION:2.0
PRODID:-//Connecticut – Southington - ECPv6.5.1.5//NONSGML v1.0//EN
CALSCALE:GREGORIAN
METHOD:PUBLISH
X-WR-CALNAME:Connecticut – Southington
X-ORIGINAL-URL:https://bricksandminifigs.com/southington-ct
X-WR-CALDESC:Events for Connecticut – Southington
REFRESH-INTERVAL;VALUE=DURATION:PT1H
X-Robots-Tag:noindex
X-PUBLISHED-TTL:PT1H
BEGIN:VTIMEZONE
TZID:UTC
BEGIN:STANDARD
TZOFFSETFROM:+0000
TZOFFSETTO:+0000
TZNAME:UTC
DTSTART:20190101T000000
END:STANDARD
END:VTIMEZONE
BEGIN:VEVENT
DTSTART;TZID=UTC:20190209T103000
DTEND;TZID=UTC:20190209T113000
DTSTAMP:20260421T062359
CREATED:20190204T173757Z
LAST-MODIFIED:20190204T173757Z
UID:2690-1549708200-1549711800@bricksandminifigs.com
SUMMARY:Make a Lego Valentine Shadow Box
DESCRIPTION:Customize a minifigure to represent yourself or a loved one and choose a heart shaped box with a window to display the figure in.  It is the perfect gift for your Lego loving sweetheart!
URL:https://bricksandminifigs.com/southington-ct/event/make-lego-valentine-shadow-box/
END:VEVENT
END:VCALENDAR