BEGIN:VCALENDAR
VERSION:2.0
PRODID:-//Utah – Orem - ECPv6.5.1.5//NONSGML v1.0//EN
CALSCALE:GREGORIAN
METHOD:PUBLISH
X-ORIGINAL-URL:https://bricksandminifigs.com/orem-ut
X-WR-CALDESC:Events for Utah – Orem
REFRESH-INTERVAL;VALUE=DURATION:PT1H
X-Robots-Tag:noindex
X-PUBLISHED-TTL:PT1H
BEGIN:VTIMEZONE
TZID:UTC
BEGIN:STANDARD
TZOFFSETFROM:+0000
TZOFFSETTO:+0000
TZNAME:UTC
DTSTART:20190101T000000
END:STANDARD
END:VTIMEZONE
BEGIN:VEVENT
DTSTART;TZID=UTC:20191214T140000
DTEND;TZID=UTC:20191214T160000
DTSTAMP:20260426T043703
CREATED:20191203T002537Z
LAST-MODIFIED:20191203T002537Z
UID:3153-1576332000-1576339200@bricksandminifigs.com
SUMMARY:Club Day
DESCRIPTION:Happy Holidays Club Members!!\n\nJoin us on Club Day Saturday\, December 14th from 2:00-4:00pm. Come build a Lego® Gift Ornament and enjoy some cookies & cocoa. ☕️ We understand that this time of year is busy\, pick up your Make & Take anytime this month. \nPlease register for your Club Event even if you can’t make it to the Club Day to ensure you get one. You can register by calling\, coming in to the store or online with the link provided.\nhttps://docs.google.com/forms/d/e/1FAIpQLSekHDmK41G_JzBehcF4vTHWcJ4LLbH62jz39ik3vBPXyDjnoA/viewform?usp=sf_link \nWhat is Club Day?\nClub Day is an event held each month for our Club Members where they get to come build a custom set and enjoy treats. \nWhat is the Club Membership?\nThe Utah Bricks Club is a monthly membership of $10 a month. With a membership you get a Free monthly event pass\, Free tub of bulk\, Free minifig maker and unlimited play time in our party room!\n \nSign up today:\nhttps://bricksandminifigs.com/orem-ut/club/
URL:https://bricksandminifigs.com/orem-ut/event/club-day-3/
LOCATION:Bricks & Minifigs Orem\, Utah\, 658 S. State Street\, Orem\, UT\, 84058\, United States
END:VEVENT
END:VCALENDAR