BEGIN:VCALENDAR
VERSION:2.0
PRODID:-//Utah – Orem - ECPv6.5.1.5//NONSGML v1.0//EN
CALSCALE:GREGORIAN
METHOD:PUBLISH
X-WR-CALNAME:Utah – Orem
X-ORIGINAL-URL:https://bricksandminifigs.com/orem-ut
X-WR-CALDESC:Events for Utah – Orem
REFRESH-INTERVAL;VALUE=DURATION:PT1H
X-Robots-Tag:noindex
X-PUBLISHED-TTL:PT1H
BEGIN:VTIMEZONE
TZID:UTC
BEGIN:STANDARD
TZOFFSETFROM:+0000
TZOFFSETTO:+0000
TZNAME:UTC
DTSTART:20200101T000000
END:STANDARD
END:VTIMEZONE
BEGIN:VEVENT
DTSTART;TZID=UTC:20200403T100000
DTEND;TZID=UTC:20200404T200000
DTSTAMP:20260425T155830
CREATED:20200310T232539Z
LAST-MODIFIED:20200404T184429Z
UID:3268-1585908000-1586030400@bricksandminifigs.com
SUMMARY:Annual Spring Trade Event
DESCRIPTION:It’s time for Spring Cleaning!! 🧹 \nNow is the perfect time to bring in those unwnated LEGO item for extra cash! 💵 \nGet cash on the spot for your LEGO! We buy new*\, used\, bulk\, minifigures\, baseplates and much more! \nFriday and Saturday April 3rd as 4th we are offering you store credit value in C A S H! That means more money for you to spend however you like! 💰 We can evaluate your items from the trunk of you vehicle or you can bring them into the store for evaluation. In our attempts to stay compliant with state regulations we are limiting the amount of people allowed in the store at one time to 10. Please\, respect other shoppers space and stay 6 feet away. \nWe may refuse to buy any LEGO® that is dirty including dust. \nMust be 18 or older with valid ID to sell any product to Bricks & Minifigs. \n*We do not offer cash or store credit for new sealed sets that are currently sold on LEGO.com
URL:https://bricksandminifigs.com/orem-ut/event/annual-spring-trade-event/
LOCATION:Bricks & Minifigs Orem\, Utah\, 658 S. State Street\, Orem\, UT\, 84058\, United States
END:VEVENT
BEGIN:VEVENT
DTSTART;TZID=UTC:20220811T080000
DTEND;TZID=UTC:20220811T170000
DTSTAMP:20260425T155830
CREATED:20220811T211309Z
LAST-MODIFIED:20220811T211309Z
UID:3423-1660204800-1660237200@bricksandminifigs.com
SUMMARY:Test Event 1
DESCRIPTION:This is a drill
URL:https://bricksandminifigs.com/orem-ut/event/test-event-1/
END:VEVENT
BEGIN:VEVENT
DTSTART;TZID=UTC:20230226T080000
DTEND;TZID=UTC:20230226T170000
DTSTAMP:20260425T155830
CREATED:20230222T162415Z
LAST-MODIFIED:20230222T162415Z
UID:3535-1677398400-1677430800@bricksandminifigs.com
SUMMARY:This is a new event Title
DESCRIPTION:bla hablhjalljljkaljlkdjlkjsadlkfaj;fj;klda
URL:https://bricksandminifigs.com/orem-ut/event/new-event-title/2023-02-26/
END:VEVENT
BEGIN:VEVENT
DTSTART;TZID=UTC:20230525T080000
DTEND;TZID=UTC:20230525T170000
DTSTAMP:20260425T155830
CREATED:20230524T234237Z
LAST-MODIFIED:20230524T234237Z
UID:3551-1685001600-1685034000@bricksandminifigs.com
SUMMARY:This is a test
DESCRIPTION:This is a test you can ignore it
URL:https://bricksandminifigs.com/orem-ut/event/this-is-a-test/
END:VEVENT
BEGIN:VEVENT
DTSTART;TZID=UTC:20230622T080000
DTEND;TZID=UTC:20230622T170000
DTSTAMP:20260425T155830
CREATED:20230621T222347Z
LAST-MODIFIED:20230621T222347Z
UID:3560-1687420800-1687453200@bricksandminifigs.com
SUMMARY:Test Test
DESCRIPTION:Test filler
URL:https://bricksandminifigs.com/orem-ut/event/test-test/
END:VEVENT
BEGIN:VEVENT
DTSTART;TZID=UTC:20230824T080000
DTEND;TZID=UTC:20230824T170000
DTSTAMP:20260425T155830
CREATED:20230823T222829Z
LAST-MODIFIED:20230823T222829Z
UID:3572-1692864000-1692896400@bricksandminifigs.com
SUMMARY:This is an event again
DESCRIPTION:;akdjfl;kadsjf;lkasdj;lfkjas;dlkfja;sldkjf;laksdjflkjas;dldkfj;lkj;adsf \nHowdy Folks\, who’s your favorite possum? \n  \n 
URL:https://bricksandminifigs.com/orem-ut/event/this-is-an-event-again/
END:VEVENT
END:VCALENDAR