BEGIN:VCALENDAR
VERSION:2.0
PRODID:-//California – Orange - ECPv6.5.1.5//NONSGML v1.0//EN
CALSCALE:GREGORIAN
METHOD:PUBLISH
X-ORIGINAL-URL:https://bricksandminifigs.com/orange-ca
X-WR-CALDESC:Events for California – Orange
REFRESH-INTERVAL;VALUE=DURATION:PT1H
X-Robots-Tag:noindex
X-PUBLISHED-TTL:PT1H
BEGIN:VTIMEZONE
TZID:UTC
BEGIN:STANDARD
TZOFFSETFROM:+0000
TZOFFSETTO:+0000
TZNAME:UTC
DTSTART:20240101T000000
END:STANDARD
END:VTIMEZONE
BEGIN:VEVENT
DTSTART;TZID=UTC:20240630T080000
DTEND;TZID=UTC:20240705T190000
DTSTAMP:20260424T143110
CREATED:20240630T194257Z
LAST-MODIFIED:20240630T194257Z
UID:3656-1719734400-1720206000@bricksandminifigs.com
SUMMARY:Red White & Blue MOC Contest
DESCRIPTION:Who:  Three age categories: – Up to 9 years old – 10 to 15 years old – 16 years old and up \nWhen:  Last day to submit entry is Friday\, July 5\, 2024. Winners announced Monday\, July 8\, 2024. \nHow:  Take several photos\, create a social media post on Instagram or Facebook and tag us. Make sure to include your age group. \nAll the Facts:  MOCs must be original\, no larger than 64×64 stud plate. No taller than 24 inches. Winners must be willing to display MOCs in store through Labor Day.
URL:https://bricksandminifigs.com/orange-ca/event/red-white-blue-moc-contest/
END:VEVENT
BEGIN:VEVENT
DTSTART;TZID=UTC:20240801T120000
DTEND;TZID=UTC:20240801T123000
DTSTAMP:20260424T143110
CREATED:20240725T233258Z
LAST-MODIFIED:20240726T014735Z
UID:3663-1722513600-1722515400@bricksandminifigs.com
SUMMARY:Make & Take Build Class
DESCRIPTION:Join us to make a Orange Dreamsicle aka Creamsickle® or 50/50 Bar
URL:https://bricksandminifigs.com/orange-ca/event/make-take-build-class/2024-08-01/
END:VEVENT
BEGIN:VEVENT
DTSTART;TZID=UTC:20240801T140000
DTEND;TZID=UTC:20240801T143000
DTSTAMP:20260424T143110
CREATED:20240726T015329Z
LAST-MODIFIED:20240726T015412Z
UID:3675-1722520800-1722522600@bricksandminifigs.com
SUMMARY:Make & Take Build Class
DESCRIPTION:
URL:https://bricksandminifigs.com/orange-ca/event/make-take-build-class-2/
END:VEVENT
BEGIN:VEVENT
DTSTART;TZID=UTC:20240801T160000
DTEND;TZID=UTC:20240801T163000
DTSTAMP:20260424T143110
CREATED:20240726T020029Z
LAST-MODIFIED:20240726T020303Z
UID:3677-1722528000-1722529800@bricksandminifigs.com
SUMMARY:Make & Take Build Class
DESCRIPTION:
URL:https://bricksandminifigs.com/orange-ca/event/make-take-build-class-3/
END:VEVENT
END:VCALENDAR