BEGIN:VCALENDAR
VERSION:2.0
PRODID:-//Missouri – O&#039;Fallon - ECPv6.5.1.5//NONSGML v1.0//EN
CALSCALE:GREGORIAN
METHOD:PUBLISH
X-ORIGINAL-URL:https://bricksandminifigs.com/ofallon-mo
X-WR-CALDESC:Events for Missouri – O&#039;Fallon
REFRESH-INTERVAL;VALUE=DURATION:PT1H
X-Robots-Tag:noindex
X-PUBLISHED-TTL:PT1H
BEGIN:VTIMEZONE
TZID:UTC
BEGIN:STANDARD
TZOFFSETFROM:+0000
TZOFFSETTO:+0000
TZNAME:UTC
DTSTART:20200101T000000
END:STANDARD
END:VTIMEZONE
BEGIN:VEVENT
DTSTART;TZID=UTC:20200314T100000
DTEND;TZID=UTC:20200314T120000
DTSTAMP:20260425T111214
CREATED:20200306T071816Z
LAST-MODIFIED:20200306T071816Z
UID:3253-1584180000-1584187200@bricksandminifigs.com
SUMMARY:Club Day
DESCRIPTION:March Club Day\n \nAdd a little magic into your life this St. Patrick’s season with our March Club Day Make & Take!!! 💚 \nBuild Leppy the Leprechaun with us March 14th from 10:00-12:00 p.m. during our monthly Club Day activity. Leppy is available for pick-up at anytime starting March 1st\, but Club Day will still be held for those who want to enjoy building\, refreshments and socializing with other LEGO® lovers!!!🍀 \n***Please note that Club Day is available only to members of the Utah Bricks Club.*** 🌈Upon registration we will validate that you have an active subscription to the Utah Bricks Club. Attending this event will consume your monthly free event. If multiple members of your family are Club Members you will need to individually sign up for each participant. \nRegister for this event to ensure you get a Leprechaun! Follow the link or call our store! \nRegister\nNot a club member? Sign up today! \n \nSign Up!\n 
URL:https://bricksandminifigs.com/ofallon-mo/event/club-day-4/
LOCATION:Bricks & Minifigs Orem\, Utah\, 658 S. State Street\, Orem\, UT\, 84058\, United States
END:VEVENT
BEGIN:VEVENT
DTSTART;TZID=UTC:20200317T100000
DTEND;TZID=UTC:20200317T200000
DTSTAMP:20260425T111214
CREATED:20200306T072518Z
LAST-MODIFIED:20200311T041434Z
UID:3256-1584439200-1584475200@bricksandminifigs.com
SUMMARY:Digging for Gold!
DESCRIPTION:St. Patrick’s Day Event!\n \n💚 Happy St. Patrick’s Day 💚 \nWe are hosting a FREE event at our store on March 17th from 10am-8pm! It’s going to be so much fun! Mark your calendars and tell your friends! \nDigging for Gold🌈\n\nWe’re throwing golden LEGO coins in our bulk tables! Are you lucky enough to find one? 🍀 Each golden coin is numbered and we have prizes that correspond to each lucky number. (1 per person) \nScavenger Hunt! 🕵️‍♂️\n\nCan you find all 6 four-leaf clovers? Find them all and get a FREE minifig maker! \n⭐️Treats and Coloring Pages\n\nWe can help you with that sweet tooth craving! Shhh… Leppy won’t tell anyone. \nIn a pinch? Wear green for 10% off your purchase!\n \n🩲Wear green or get pinched! Anyone dressed in green gets 10% off their purchase!\n(Excludes new in box sets) \nLeprechaun Minifig Maker!\n \nWe’re adding Leprechaun Minifig pieces to our Minifig Maker table! Mix and match however you want! $4 or 3 for $10
URL:https://bricksandminifigs.com/ofallon-mo/event/digging-for-gold/
LOCATION:Bricks & Minifigs Orem\, Utah\, 658 S. State Street\, Orem\, UT\, 84058\, United States
END:VEVENT
BEGIN:VEVENT
DTSTART;TZID=UTC:20200403T100000
DTEND;TZID=UTC:20200404T200000
DTSTAMP:20260425T111214
CREATED:20200311T042539Z
LAST-MODIFIED:20200404T234429Z
UID:3268-1585908000-1586030400@bricksandminifigs.com
SUMMARY:Annual Spring Trade Event
DESCRIPTION:It’s time for Spring Cleaning!! 🧹 \nNow is the perfect time to bring in those unwnated LEGO item for extra cash! 💵 \nGet cash on the spot for your LEGO! We buy new*\, used\, bulk\, minifigures\, baseplates and much more! \nFriday and Saturday April 3rd as 4th we are offering you store credit value in C A S H! That means more money for you to spend however you like! 💰 We can evaluate your items from the trunk of you vehicle or you can bring them into the store for evaluation. In our attempts to stay compliant with state regulations we are limiting the amount of people allowed in the store at one time to 10. Please\, respect other shoppers space and stay 6 feet away. \nWe may refuse to buy any LEGO® that is dirty including dust. \nMust be 18 or older with valid ID to sell any product to Bricks & Minifigs. \n*We do not offer cash or store credit for new sealed sets that are currently sold on LEGO.com
URL:https://bricksandminifigs.com/ofallon-mo/event/annual-spring-trade-event/
LOCATION:Bricks & Minifigs Orem\, Utah\, 658 S. State Street\, Orem\, UT\, 84058\, United States
END:VEVENT
END:VCALENDAR