BEGIN:VCALENDAR
VERSION:2.0
PRODID:-//Colorado – Littleton - ECPv6.5.1.5//NONSGML v1.0//EN
CALSCALE:GREGORIAN
METHOD:PUBLISH
X-WR-CALNAME:Colorado – Littleton
X-ORIGINAL-URL:https://bricksandminifigs.com/littleton-co
X-WR-CALDESC:Events for Colorado – Littleton
REFRESH-INTERVAL;VALUE=DURATION:PT1H
X-Robots-Tag:noindex
X-PUBLISHED-TTL:PT1H
BEGIN:VTIMEZONE
TZID:UTC
BEGIN:STANDARD
TZOFFSETFROM:+0000
TZOFFSETTO:+0000
TZNAME:UTC
DTSTART:20200101T000000
END:STANDARD
END:VTIMEZONE
BEGIN:VEVENT
DTSTART;TZID=UTC:20200114T163000
DTEND;TZID=UTC:20200114T174500
DTSTAMP:20260424T194619
CREATED:20200107T234815Z
LAST-MODIFIED:20200107T234815Z
UID:3397-1579019400-1579023900@bricksandminifigs.com
SUMMARY:Young Engineers Bricks Challenge
DESCRIPTION:Bricks Challenge  \nThe Bricks Challenge program introduces Elementary-aged children to the basic principles of Science\, Technology\, Engineering and Mathematics (STEM) through storytelling and building exclusive motorized models with LEGO® bricks. By integrating basic arithmetic learned in school with an intuitive active learning process\, children grasp a better understanding of the fundamentals of physics and engineering concepts needed in tomorrow’s job market. Students get a project based learning curriculum in weekly increments\, introducing the basic mechanics skills that will be required knowledge in middle and high school STEM programs. To enroll\, call (720) 550-8922\, email YoungEngineersLittletonCO@gmail.com\, or enroll online HERE. \nAges: 6-12 (1st – 5th grade) \nAverage lesson duration: 75 minutes \nProgram Subjects Include:  \nBasic and complex mathematics: Instructors reinforce basic math skills taught in the classroom\, from addition and subtraction to exponents! \nFamous scientific and philosophical figures: Archimedes\, Da Vinci\, Sir Isaac Newton\, Einstein\, the Wright Brothers and more! \nPowers and principles in physics: Centrifugal and centripetal forces\, the power of inertia\, potential energy\, kinetic energy\, action/reaction law\, buoyancy\, torque\, fulcrum\, load division\, angular momentum\, and more. \n$29 for a one-day\, drop-in class or $89 for one month of classes. $229 for a full semester\, 15 sessions of class!
URL:https://bricksandminifigs.com/littleton-co/event/young-engineers-bricks-challenge/2020-01-14/
END:VEVENT
END:VCALENDAR