BEGIN:VCALENDAR
VERSION:2.0
PRODID:-//Colorado – Littleton - ECPv6.5.1.5//NONSGML v1.0//EN
CALSCALE:GREGORIAN
METHOD:PUBLISH
X-ORIGINAL-URL:https://bricksandminifigs.com/littleton-co
X-WR-CALDESC:Events for Colorado – Littleton
REFRESH-INTERVAL;VALUE=DURATION:PT1H
X-Robots-Tag:noindex
X-PUBLISHED-TTL:PT1H
BEGIN:VTIMEZONE
TZID:UTC
BEGIN:STANDARD
TZOFFSETFROM:+0000
TZOFFSETTO:+0000
TZNAME:UTC
DTSTART:20220101T000000
END:STANDARD
END:VTIMEZONE
BEGIN:VEVENT
DTSTART;TZID=UTC:20221217T130000
DTEND;TZID=UTC:20221217T140000
DTSTAMP:20260424T115358
CREATED:20221022T165317Z
LAST-MODIFIED:20221022T165317Z
UID:4659-1671282000-1671285600@bricksandminifigs.com
SUMMARY:Snowman and Christmas Tree Make and Take Event\, Saturday\, December 17th\, at 1pm!
DESCRIPTION:Bring your kids to join us on Saturday\, December 17th at 1pm\, in making a Reindeer and Rudolph! This LEGO set is geared toward our builders ages 6 to 13 years old. First 14 participants to sign up get to enjoy this fun event and a break from screen time! (An adult present for each participant is required.) (Please fill out a new registration for each child if you are bringing more than one.)
URL:https://bricksandminifigs.com/littleton-co/event/snowman-christmas-tree-make-take-event-saturday-december-17th-1pm/2022-12-17/
LOCATION:Bricks & Minifigs\, 8966 W. Bowles Ave. Unit V\, Littleton\, CO\, 80123\, United States
END:VEVENT
END:VCALENDAR