BEGIN:VCALENDAR
VERSION:2.0
PRODID:-//Texas – Grapevine - ECPv6.5.1.5//NONSGML v1.0//EN
CALSCALE:GREGORIAN
METHOD:PUBLISH
X-WR-CALNAME:Texas – Grapevine
X-ORIGINAL-URL:https://bricksandminifigs.com/grapevine-tx
X-WR-CALDESC:Events for Texas – Grapevine
REFRESH-INTERVAL;VALUE=DURATION:PT1H
X-Robots-Tag:noindex
X-PUBLISHED-TTL:PT1H
BEGIN:VTIMEZONE
TZID:UTC
BEGIN:STANDARD
TZOFFSETFROM:+0000
TZOFFSETTO:+0000
TZNAME:UTC
DTSTART:20240101T000000
END:STANDARD
END:VTIMEZONE
BEGIN:VEVENT
DTSTART;TZID=UTC:20261211T183000
DTEND;TZID=UTC:20261211T210000
DTSTAMP:20260424T193143
CREATED:20260424T190605Z
LAST-MODIFIED:20260424T191432Z
UID:4633-1797013800-1797022800@bricksandminifigs.com
SUMMARY:Kids Night Out
DESCRIPTION:Enjoy LEGO® building time\, epic games\, free pizza\, and a take-home LEGO® set. Happens every second Friday every month at $30 per child. \nWhat’s Kids Night Out?\nKids Night Out is an easy way to give your kids a fun evening out while you get a few hours to yourself. They’ll be in a safe\, supervised space where they can build\, play\, and hang out with other young LEGO® fans. \n\nWhat Your Kid Will Do\nThere’s plenty to keep them busy all night\, including: \n🧱 LEGO® building time to unleash their creativity.\n🏎️ Racing car building time and testing ’em in epic races!\n🎬 Watching LEGO® movies.\n🎨 Additional free building time to make whatever they want. \nAnd at the end of the night\, each child gets a small LEGO® set to take home. \nFree pizza and drinks are included. \nWhen’s Kids Night Out Happening?\nHere’s what to know before you book: \n📅 Happens every second Friday of the month.\n⏰ 6:30PM – 9:00PM CST.\n📌 At our store (2101 Harwood Rd suite 124).\n💰 $30 per child. \nIf you’re bringing more than one child\, you can call 682-503-6191 before booking to ask about a sibling discount. \nWhat To Do Before Arriving To keep things running smoothly: \n📄 Please fill out the release and allergy forms ahead of time: https://shorturl.at/0WPhb\n📝 Bring them with you when you check in your child. \nREGISTER HERE
URL:https://bricksandminifigs.com/grapevine-tx/event/kids-night-out/2026-12-11/
LOCATION:Bricks & Minifigs Grapevine\, Harwood Road\, Bedford\, TX\, 76021\, United States
ORGANIZER;CN="Bricks &amp%3B Minifigs Grapevine":MAILTO:grapevine@bricksandminifigs.com
GEO:32.8537002;-97.1334138
X-APPLE-STRUCTURED-LOCATION;VALUE=URI;X-ADDRESS=Bricks & Minifigs Grapevine Harwood Road Bedford TX 76021 United States;X-APPLE-RADIUS=500;X-TITLE=Harwood Road:geo:-97.1334138,32.8537002
END:VEVENT
BEGIN:VEVENT
DTSTART;TZID=UTC:20261127T183000
DTEND;TZID=UTC:20261127T210000
DTSTAMP:20260424T193143
CREATED:20260424T192019Z
LAST-MODIFIED:20260424T192301Z
UID:4671-1795804200-1795813200@bricksandminifigs.com
SUMMARY:Teen Night Out
DESCRIPTION:Enjoy LEGO® building time\, play video games\, meet fellow LEGO® fans\, and more! Happens every fourth Friday of the month for $30 per teen. \nREGISTER HERE
URL:https://bricksandminifigs.com/grapevine-tx/event/teen-night-out/2026-11-27/
LOCATION:Bricks & Minifigs Grapevine\, Harwood Road\, Bedford\, TX\, 76021\, United States
ORGANIZER;CN="Bricks &amp%3B Minifigs Grapevine":MAILTO:grapevine@bricksandminifigs.com
GEO:32.8537002;-97.1334138
X-APPLE-STRUCTURED-LOCATION;VALUE=URI;X-ADDRESS=Bricks & Minifigs Grapevine Harwood Road Bedford TX 76021 United States;X-APPLE-RADIUS=500;X-TITLE=Harwood Road:geo:-97.1334138,32.8537002
END:VEVENT
BEGIN:VEVENT
DTSTART;TZID=UTC:20250526T130000
DTEND;TZID=UTC:20250526T150000
DTSTAMP:20260424T193143
CREATED:20241023T000739Z
LAST-MODIFIED:20250103T003526Z
UID:4065-1748264400-1748271600@bricksandminifigs.com
SUMMARY:Homeschool Day
DESCRIPTION:Homeschoolers – come use our party room and race track for a fun school day. You can perform experiments\, study science\, and play with Lego! Be sure to CLICK HERE TO REGISTER and reserve your spot.
URL:https://bricksandminifigs.com/grapevine-tx/event/homeschool-day/2025-05-26/
LOCATION:Bricks & Minifigs Grapevine\, Harwood Road\, Bedford\, TX\, 76021\, United States
ATTACH;FMTTYPE=image/png:https://bricksandminifigs.com/grapevine-tx/wp-content/uploads/sites/27/2024/10/Homeschool-Monday-week-2-Face-1.png
ORGANIZER;CN="Bricks &amp%3B Minifigs Grapevine":MAILTO:grapevine@bricksandminifigs.com
GEO:32.8537002;-97.1334138
X-APPLE-STRUCTURED-LOCATION;VALUE=URI;X-ADDRESS=Bricks & Minifigs Grapevine Harwood Road Bedford TX 76021 United States;X-APPLE-RADIUS=500;X-TITLE=Harwood Road:geo:-97.1334138,32.8537002
END:VEVENT
BEGIN:VEVENT
DTSTART;TZID=UTC:20250520T170000
DTEND;TZID=UTC:20250520T190000
DTSTAMP:20260424T193143
CREATED:20241228T014007Z
LAST-MODIFIED:20241228T014520Z
UID:4359-1747760400-1747767600@bricksandminifigs.com
SUMMARY:LEGO Robotics Class - Spring Semester
DESCRIPTION:In this 15-session class\, students will learn how to build\, power\, and code LEGO Mindstorms Robots. Class begins on Tuesday\, January 28\, from 5 PM to 7 PM and will last the entire Spring Semester ending May 20th (see excluded dates below). \n\nStudents must be 10yrs old or older.\nStudents will need a laptop\, tablet\, or other Bluetooth capable device.\nPlease download the programming app. https://education.lego.com/en-us/downloads/mindstorms-ev3/software/\nBricks and Minifigs will provide robotic kits to the students for use during the class.\nThe class costs $400. A $100 non-refundable deposit is required upon registration.\n\nClasses WILL NOT be held on Feb. 18 or March 18.
URL:https://bricksandminifigs.com/grapevine-tx/event/4349/2025-05-20/
LOCATION:Bricks & Minifigs Grapevine\, Harwood Road\, Bedford\, TX\, 76021\, United States
ATTACH;FMTTYPE=image/png:https://bricksandminifigs.com/grapevine-tx/wp-content/uploads/sites/27/2024/12/Robotics-Spring.png
ORGANIZER;CN="Bricks &amp%3B Minifigs Grapevine":MAILTO:grapevine@bricksandminifigs.com
GEO:32.8537002;-97.1334138
X-APPLE-STRUCTURED-LOCATION;VALUE=URI;X-ADDRESS=Bricks & Minifigs Grapevine Harwood Road Bedford TX 76021 United States;X-APPLE-RADIUS=500;X-TITLE=Harwood Road:geo:-97.1334138,32.8537002
END:VEVENT
BEGIN:VEVENT
DTSTART;TZID=UTC:20250509T183000
DTEND;TZID=UTC:20250509T210000
DTSTAMP:20260424T193143
CREATED:20241027T221851Z
LAST-MODIFIED:20250126T224251Z
UID:4292-1746815400-1746824400@bricksandminifigs.com
SUMMARY:Kids Night Out (Parents Night Off)
DESCRIPTION:Bring the kids for an unforgettable evening of fun!! Enjoy pizza and drinks\, build LEGOS\, race cars\, and watch the best LEGO movies around!  All Kids will take a LEGO set home.  REGISTER TODAY! \nJoin us every 2nd Friday of each month from 6:30 – 9:00 PM
URL:https://bricksandminifigs.com/grapevine-tx/event/kids-night-out-parents-night-off/2025-05-09/
LOCATION:Bricks & Minifigs Grapevine\, Harwood Road\, Bedford\, TX\, 76021\, United States
ATTACH;FMTTYPE=image/png:https://bricksandminifigs.com/grapevine-tx/wp-content/uploads/sites/27/2024/10/Kids-Night-Out-NO-Date.png
ORGANIZER;CN="Bricks &amp%3B Minifigs Grapevine":MAILTO:grapevine@bricksandminifigs.com
GEO:32.8537002;-97.1334138
X-APPLE-STRUCTURED-LOCATION;VALUE=URI;X-ADDRESS=Bricks & Minifigs Grapevine Harwood Road Bedford TX 76021 United States;X-APPLE-RADIUS=500;X-TITLE=Harwood Road:geo:-97.1334138,32.8537002
END:VEVENT
BEGIN:VEVENT
DTSTART;TZID=UTC:20250425T183000
DTEND;TZID=UTC:20250425T210000
DTSTAMP:20260424T193143
CREATED:20250126T223843Z
LAST-MODIFIED:20250126T223901Z
UID:4433-1745605800-1745614800@bricksandminifigs.com
SUMMARY:Teen Night
DESCRIPTION:Teen only (12 and up) LEGO community time! Join a growing group of teens who love LEGO – we will meet each month and work on a community build\, compete in LEGO building challenges\, learn building techniques\, enjoy pizza and drinks and more.
URL:https://bricksandminifigs.com/grapevine-tx/event/4429/2025-04-25/
LOCATION:Bricks & Minifigs Grapevine\, Harwood Road\, Bedford\, TX\, 76021\, United States
ATTACH;FMTTYPE=image/png:https://bricksandminifigs.com/grapevine-tx/wp-content/uploads/sites/27/2025/01/teen-night-NO-DATE.png
ORGANIZER;CN="Bricks &amp%3B Minifigs Grapevine":MAILTO:grapevine@bricksandminifigs.com
GEO:32.8537002;-97.1334138
X-APPLE-STRUCTURED-LOCATION;VALUE=URI;X-ADDRESS=Bricks & Minifigs Grapevine Harwood Road Bedford TX 76021 United States;X-APPLE-RADIUS=500;X-TITLE=Harwood Road:geo:-97.1334138,32.8537002
END:VEVENT
BEGIN:VEVENT
DTSTART;TZID=UTC:20250323T120000
DTEND;TZID=UTC:20250323T170000
DTSTAMP:20260424T193143
CREATED:20241205T020724Z
LAST-MODIFIED:20250102T235758Z
UID:4320-1742731200-1742749200@bricksandminifigs.com
SUMMARY:Sunday Funday!
DESCRIPTION:Every Sunday – get out of the house\, put down the electronics\, and set your imagination free. Come on in\, grab a LEGO baseplate\, build from our bulk\, and take it home! Only $20 (ask about our sibling discounts).
URL:https://bricksandminifigs.com/grapevine-tx/event/sunday-funday/2025-03-23/
LOCATION:Bricks & Minifigs Grapevine\, Harwood Road\, Bedford\, TX\, 76021\, United States
ATTACH;FMTTYPE=image/jpeg:https://bricksandminifigs.com/grapevine-tx/wp-content/uploads/sites/27/2024/12/Sunday-Funday-Instagram-Post.jpg
ORGANIZER;CN="Bricks &amp%3B Minifigs Grapevine":MAILTO:grapevine@bricksandminifigs.com
GEO:32.8537002;-97.1334138
X-APPLE-STRUCTURED-LOCATION;VALUE=URI;X-ADDRESS=Bricks & Minifigs Grapevine Harwood Road Bedford TX 76021 United States;X-APPLE-RADIUS=500;X-TITLE=Harwood Road:geo:-97.1334138,32.8537002
END:VEVENT
BEGIN:VEVENT
DTSTART;TZID=UTC:20250126T100000
DTEND;TZID=UTC:20250126T200000
DTSTAMP:20260424T193143
CREATED:20241228T041104Z
LAST-MODIFIED:20241228T041104Z
UID:4392-1737885600-1737921600@bricksandminifigs.com
SUMMARY:International LEGO Day Celebration
DESCRIPTION:International LEGO Day is January 28. We are celebrating all weekend with a scavenger hunt. Complete the hunt and get a $10 in-store credit!
URL:https://bricksandminifigs.com/grapevine-tx/event/international-lego-day-celebration/2025-01-26/
LOCATION:Bricks & Minifigs Grapevine\, Harwood Road\, Bedford\, TX\, 76021\, United States
ATTACH;FMTTYPE=image/png:https://bricksandminifigs.com/grapevine-tx/wp-content/uploads/sites/27/2024/12/interLegoDay_post_scavengerpromo.png
ORGANIZER;CN="Bricks &amp%3B Minifigs Grapevine":MAILTO:grapevine@bricksandminifigs.com
GEO:32.8537002;-97.1334138
X-APPLE-STRUCTURED-LOCATION;VALUE=URI;X-ADDRESS=Bricks & Minifigs Grapevine Harwood Road Bedford TX 76021 United States;X-APPLE-RADIUS=500;X-TITLE=Harwood Road:geo:-97.1334138,32.8537002
END:VEVENT
BEGIN:VEVENT
DTSTART;VALUE=DATE:20241103
DTEND;VALUE=DATE:20241104
DTSTAMP:20260424T193143
CREATED:20241027T202619Z
LAST-MODIFIED:20241027T203250Z
UID:4101-1730592000-1730678399@bricksandminifigs.com
SUMMARY:Bricks Club Days!
DESCRIPTION:Pick up your Bricks Club swag – monthly custom build\, free bulk\, free minifig & 10% discount off 1 item in November. Not a member? Join and get a bonus gift!
URL:https://bricksandminifigs.com/grapevine-tx/event/bricks-club-days/2024-11-03/
LOCATION:Bricks & Minifigs Grapevine\, Harwood Road\, Bedford\, TX\, 76021\, United States
ATTACH;FMTTYPE=image/jpeg:https://bricksandminifigs.com/grapevine-tx/wp-content/uploads/sites/27/2024/10/bricks-club-days-website.jpg
ORGANIZER;CN="Bricks &amp%3B Minifigs Grapevine":MAILTO:grapevine@bricksandminifigs.com
GEO:32.8537002;-97.1334138
X-APPLE-STRUCTURED-LOCATION;VALUE=URI;X-ADDRESS=Bricks & Minifigs Grapevine Harwood Road Bedford TX 76021 United States;X-APPLE-RADIUS=500;X-TITLE=Harwood Road:geo:-97.1334138,32.8537002
END:VEVENT
BEGIN:VEVENT
DTSTART;VALUE=DATE:20241031
DTEND;VALUE=DATE:20241101
DTSTAMP:20260424T193143
CREATED:20241023T024528Z
LAST-MODIFIED:20241023T030521Z
UID:4088-1730332800-1730419199@bricksandminifigs.com
SUMMARY:Halloween Fun Days at Bricks & Minifigs!
DESCRIPTION:Wear your costume while you shop and get 20% off 1 item. Also\, draw from our witches cauldron and WIN prizes from a free minifig to 50% off 1 item! Halloween fun lasts October 26\, 27\, & 31.
URL:https://bricksandminifigs.com/grapevine-tx/event/halloween-fun-days-at-bricks-minifigs/2024-10-31/
LOCATION:Bricks & Minifigs Grapevine\, Harwood Road\, Bedford\, TX\, 76021\, United States
ATTACH;FMTTYPE=image/png:https://bricksandminifigs.com/grapevine-tx/wp-content/uploads/sites/27/2024/10/Halloween-Fun-Days.png
ORGANIZER;CN="Bricks &amp%3B Minifigs Grapevine":MAILTO:grapevine@bricksandminifigs.com
GEO:32.8537002;-97.1334138
X-APPLE-STRUCTURED-LOCATION;VALUE=URI;X-ADDRESS=Bricks & Minifigs Grapevine Harwood Road Bedford TX 76021 United States;X-APPLE-RADIUS=500;X-TITLE=Harwood Road:geo:-97.1334138,32.8537002
END:VEVENT
END:VCALENDAR