BEGIN:VCALENDAR
VERSION:2.0
PRODID:-//Texas – Grapevine - ECPv6.5.1.5//NONSGML v1.0//EN
CALSCALE:GREGORIAN
METHOD:PUBLISH
X-WR-CALNAME:Texas – Grapevine
X-ORIGINAL-URL:https://bricksandminifigs.com/grapevine-tx
X-WR-CALDESC:Events for Texas – Grapevine
REFRESH-INTERVAL;VALUE=DURATION:PT1H
X-Robots-Tag:noindex
X-PUBLISHED-TTL:PT1H
BEGIN:VTIMEZONE
TZID:UTC
BEGIN:STANDARD
TZOFFSETFROM:+0000
TZOFFSETTO:+0000
TZNAME:UTC
DTSTART:20240101T000000
END:STANDARD
END:VTIMEZONE
BEGIN:VEVENT
DTSTART;VALUE=DATE:20241026
DTEND;VALUE=DATE:20241027
DTSTAMP:20260424T201811
CREATED:20241023T024528Z
LAST-MODIFIED:20241023T030519Z
UID:4084-1729900800-1729987199@bricksandminifigs.com
SUMMARY:Halloween Fun Days at Bricks & Minifigs!
DESCRIPTION:Wear your costume while you shop and get 20% off 1 item. Also\, draw from our witches cauldron and WIN prizes from a free minifig to 50% off 1 item! Halloween fun lasts October 26\, 27\, & 31.
URL:https://bricksandminifigs.com/grapevine-tx/event/halloween-fun-days-at-bricks-minifigs/2024-10-26/
LOCATION:Bricks & Minifigs Grapevine\, Harwood Road\, Bedford\, TX\, 76021\, United States
ATTACH;FMTTYPE=image/png:https://bricksandminifigs.com/grapevine-tx/wp-content/uploads/sites/27/2024/10/Halloween-Fun-Days.png
ORGANIZER;CN="Bricks &amp%3B Minifigs Grapevine":MAILTO:grapevine@bricksandminifigs.com
GEO:32.8537002;-97.1334138
X-APPLE-STRUCTURED-LOCATION;VALUE=URI;X-ADDRESS=Bricks & Minifigs Grapevine Harwood Road Bedford TX 76021 United States;X-APPLE-RADIUS=500;X-TITLE=Harwood Road:geo:-97.1334138,32.8537002
END:VEVENT
BEGIN:VEVENT
DTSTART;TZID=UTC:20241028T130000
DTEND;TZID=UTC:20241028T150000
DTSTAMP:20260424T201811
CREATED:20241023T000739Z
LAST-MODIFIED:20250103T003457Z
UID:4000-1730120400-1730127600@bricksandminifigs.com
SUMMARY:Homeschool Day
DESCRIPTION:Homeschoolers – come use our party room and race track for a fun school day. You can perform experiments\, study science\, and play with Lego! Be sure to CLICK HERE TO REGISTER and reserve your spot.
URL:https://bricksandminifigs.com/grapevine-tx/event/homeschool-day/2024-10-28/
LOCATION:Bricks & Minifigs Grapevine\, Harwood Road\, Bedford\, TX\, 76021\, United States
ATTACH;FMTTYPE=image/png:https://bricksandminifigs.com/grapevine-tx/wp-content/uploads/sites/27/2024/10/Homeschool-Monday-week-2-Face-1.png
ORGANIZER;CN="Bricks &amp%3B Minifigs Grapevine":MAILTO:grapevine@bricksandminifigs.com
GEO:32.8537002;-97.1334138
X-APPLE-STRUCTURED-LOCATION;VALUE=URI;X-ADDRESS=Bricks & Minifigs Grapevine Harwood Road Bedford TX 76021 United States;X-APPLE-RADIUS=500;X-TITLE=Harwood Road:geo:-97.1334138,32.8537002
END:VEVENT
BEGIN:VEVENT
DTSTART;VALUE=DATE:20241102
DTEND;VALUE=DATE:20241103
DTSTAMP:20260424T201811
CREATED:20241027T202619Z
LAST-MODIFIED:20241027T203210Z
UID:4097-1730505600-1730591999@bricksandminifigs.com
SUMMARY:Bricks Club Days!
DESCRIPTION:Pick up your Bricks Club swag – monthly custom build\, free bulk\, free minifig & 10% discount off 1 item in November. Not a member? Join and get a bonus gift!
URL:https://bricksandminifigs.com/grapevine-tx/event/bricks-club-days/2024-11-02/
LOCATION:Bricks & Minifigs Grapevine\, Harwood Road\, Bedford\, TX\, 76021\, United States
ATTACH;FMTTYPE=image/jpeg:https://bricksandminifigs.com/grapevine-tx/wp-content/uploads/sites/27/2024/10/bricks-club-days-website.jpg
ORGANIZER;CN="Bricks &amp%3B Minifigs Grapevine":MAILTO:grapevine@bricksandminifigs.com
GEO:32.8537002;-97.1334138
X-APPLE-STRUCTURED-LOCATION;VALUE=URI;X-ADDRESS=Bricks & Minifigs Grapevine Harwood Road Bedford TX 76021 United States;X-APPLE-RADIUS=500;X-TITLE=Harwood Road:geo:-97.1334138,32.8537002
END:VEVENT
BEGIN:VEVENT
DTSTART;TZID=UTC:20241108T183000
DTEND;TZID=UTC:20241108T210000
DTSTAMP:20260424T201811
CREATED:20241027T221851Z
LAST-MODIFIED:20250126T224246Z
UID:4112-1731090600-1731099600@bricksandminifigs.com
SUMMARY:Kids Night Out (Parents Night Off)
DESCRIPTION:Bring the kids for an unforgettable evening of fun!! Enjoy pizza and drinks\, build LEGOS\, race cars\, and watch the best LEGO movies around!  All Kids will take a LEGO set home.  REGISTER TODAY! \nJoin us every 2nd Friday of each month from 6:30 – 9:00 PM
URL:https://bricksandminifigs.com/grapevine-tx/event/kids-night-out-parents-night-off/2024-11-08/
LOCATION:Bricks & Minifigs Grapevine\, Harwood Road\, Bedford\, TX\, 76021\, United States
ATTACH;FMTTYPE=image/png:https://bricksandminifigs.com/grapevine-tx/wp-content/uploads/sites/27/2024/10/Kids-Night-Out-NO-Date.png
ORGANIZER;CN="Bricks &amp%3B Minifigs Grapevine":MAILTO:grapevine@bricksandminifigs.com
GEO:32.8537002;-97.1334138
X-APPLE-STRUCTURED-LOCATION;VALUE=URI;X-ADDRESS=Bricks & Minifigs Grapevine Harwood Road Bedford TX 76021 United States;X-APPLE-RADIUS=500;X-TITLE=Harwood Road:geo:-97.1334138,32.8537002
END:VEVENT
BEGIN:VEVENT
DTSTART;TZID=UTC:20241208T120000
DTEND;TZID=UTC:20241208T170000
DTSTAMP:20260424T201811
CREATED:20241205T020724Z
LAST-MODIFIED:20250102T235741Z
UID:4303-1733659200-1733677200@bricksandminifigs.com
SUMMARY:Sunday Funday!
DESCRIPTION:Every Sunday – get out of the house\, put down the electronics\, and set your imagination free. Come on in\, grab a LEGO baseplate\, build from our bulk\, and take it home! Only $20 (ask about our sibling discounts).
URL:https://bricksandminifigs.com/grapevine-tx/event/sunday-funday/2024-12-08/
LOCATION:Bricks & Minifigs Grapevine\, Harwood Road\, Bedford\, TX\, 76021\, United States
ATTACH;FMTTYPE=image/jpeg:https://bricksandminifigs.com/grapevine-tx/wp-content/uploads/sites/27/2024/12/Sunday-Funday-Instagram-Post.jpg
ORGANIZER;CN="Bricks &amp%3B Minifigs Grapevine":MAILTO:grapevine@bricksandminifigs.com
GEO:32.8537002;-97.1334138
X-APPLE-STRUCTURED-LOCATION;VALUE=URI;X-ADDRESS=Bricks & Minifigs Grapevine Harwood Road Bedford TX 76021 United States;X-APPLE-RADIUS=500;X-TITLE=Harwood Road:geo:-97.1334138,32.8537002
END:VEVENT
BEGIN:VEVENT
DTSTART;TZID=UTC:20250125T100000
DTEND;TZID=UTC:20250125T200000
DTSTAMP:20260424T201811
CREATED:20241228T041104Z
LAST-MODIFIED:20241228T041104Z
UID:4390-1737799200-1737835200@bricksandminifigs.com
SUMMARY:International LEGO Day Celebration
DESCRIPTION:International LEGO Day is January 28. We are celebrating all weekend with a scavenger hunt. Complete the hunt and get a $10 in-store credit!
URL:https://bricksandminifigs.com/grapevine-tx/event/international-lego-day-celebration/2025-01-25/
LOCATION:Bricks & Minifigs Grapevine\, Harwood Road\, Bedford\, TX\, 76021\, United States
ATTACH;FMTTYPE=image/png:https://bricksandminifigs.com/grapevine-tx/wp-content/uploads/sites/27/2024/12/interLegoDay_post_scavengerpromo.png
ORGANIZER;CN="Bricks &amp%3B Minifigs Grapevine":MAILTO:grapevine@bricksandminifigs.com
GEO:32.8537002;-97.1334138
X-APPLE-STRUCTURED-LOCATION;VALUE=URI;X-ADDRESS=Bricks & Minifigs Grapevine Harwood Road Bedford TX 76021 United States;X-APPLE-RADIUS=500;X-TITLE=Harwood Road:geo:-97.1334138,32.8537002
END:VEVENT
BEGIN:VEVENT
DTSTART;TZID=UTC:20250128T170000
DTEND;TZID=UTC:20250128T190000
DTSTAMP:20260424T201811
CREATED:20241228T014007Z
LAST-MODIFIED:20241228T014512Z
UID:4349-1738083600-1738090800@bricksandminifigs.com
SUMMARY:LEGO Robotics Class - Spring Semester
DESCRIPTION:In this 15-session class\, students will learn how to build\, power\, and code LEGO Mindstorms Robots. Class begins on Tuesday\, January 28\, from 5 PM to 7 PM and will last the entire Spring Semester ending May 20th (see excluded dates below). \n\nStudents must be 10yrs old or older.\nStudents will need a laptop\, tablet\, or other Bluetooth capable device.\nPlease download the programming app. https://education.lego.com/en-us/downloads/mindstorms-ev3/software/\nBricks and Minifigs will provide robotic kits to the students for use during the class.\nThe class costs $400. A $100 non-refundable deposit is required upon registration.\n\nClasses WILL NOT be held on Feb. 18 or March 18.
URL:https://bricksandminifigs.com/grapevine-tx/event/4349/2025-01-28/
LOCATION:Bricks & Minifigs Grapevine\, Harwood Road\, Bedford\, TX\, 76021\, United States
ATTACH;FMTTYPE=image/png:https://bricksandminifigs.com/grapevine-tx/wp-content/uploads/sites/27/2024/12/Robotics-Spring.png
ORGANIZER;CN="Bricks &amp%3B Minifigs Grapevine":MAILTO:grapevine@bricksandminifigs.com
GEO:32.8537002;-97.1334138
X-APPLE-STRUCTURED-LOCATION;VALUE=URI;X-ADDRESS=Bricks & Minifigs Grapevine Harwood Road Bedford TX 76021 United States;X-APPLE-RADIUS=500;X-TITLE=Harwood Road:geo:-97.1334138,32.8537002
END:VEVENT
BEGIN:VEVENT
DTSTART;TZID=UTC:20250228T183000
DTEND;TZID=UTC:20250228T210000
DTSTAMP:20260424T201811
CREATED:20250126T223843Z
LAST-MODIFIED:20250126T223900Z
UID:4429-1740767400-1740776400@bricksandminifigs.com
SUMMARY:Teen Night
DESCRIPTION:Teen only (12 and up) LEGO community time! Join a growing group of teens who love LEGO – we will meet each month and work on a community build\, compete in LEGO building challenges\, learn building techniques\, enjoy pizza and drinks and more.
URL:https://bricksandminifigs.com/grapevine-tx/event/4429/2025-02-28/
LOCATION:Bricks & Minifigs Grapevine\, Harwood Road\, Bedford\, TX\, 76021\, United States
ATTACH;FMTTYPE=image/png:https://bricksandminifigs.com/grapevine-tx/wp-content/uploads/sites/27/2025/01/teen-night-NO-DATE.png
ORGANIZER;CN="Bricks &amp%3B Minifigs Grapevine":MAILTO:grapevine@bricksandminifigs.com
GEO:32.8537002;-97.1334138
X-APPLE-STRUCTURED-LOCATION;VALUE=URI;X-ADDRESS=Bricks & Minifigs Grapevine Harwood Road Bedford TX 76021 United States;X-APPLE-RADIUS=500;X-TITLE=Harwood Road:geo:-97.1334138,32.8537002
END:VEVENT
BEGIN:VEVENT
DTSTART;TZID=UTC:20260424T183000
DTEND;TZID=UTC:20260424T210000
DTSTAMP:20260424T201811
CREATED:20260424T192019Z
LAST-MODIFIED:20260424T195639Z
UID:4661-1777055400-1777064400@bricksandminifigs.com
SUMMARY:Teen Night Out
DESCRIPTION:Enjoy LEGO® building time\, play video games\, meet fellow LEGO® fans\, and more! Happens every fourth Friday of the month for $30 per teen. \nREGISTER HERE
URL:https://bricksandminifigs.com/grapevine-tx/event/teen-night-out/2026-04-24/
LOCATION:Bricks & Minifigs Grapevine\, Harwood Road\, Bedford\, TX\, 76021\, United States
ATTACH;FMTTYPE=image/png:https://bricksandminifigs.com/grapevine-tx/wp-content/uploads/sites/27/2026/04/BAM-Grapevine-TX-Social-Media-1.png
ORGANIZER;CN="Bricks &amp%3B Minifigs Grapevine":MAILTO:grapevine@bricksandminifigs.com
GEO:32.8537002;-97.1334138
X-APPLE-STRUCTURED-LOCATION;VALUE=URI;X-ADDRESS=Bricks & Minifigs Grapevine Harwood Road Bedford TX 76021 United States;X-APPLE-RADIUS=500;X-TITLE=Harwood Road:geo:-97.1334138,32.8537002
END:VEVENT
BEGIN:VEVENT
DTSTART;TZID=UTC:20260426T170000
DTEND;TZID=UTC:20260426T200000
DTSTAMP:20260424T201811
CREATED:20260424T194344Z
LAST-MODIFIED:20260424T195720Z
UID:4680-1777222800-1777233600@bricksandminifigs.com
SUMMARY:AFOL (Adult Fan Of LEGO®) Night
DESCRIPTION:Enjoy LEGO® swapping\, building time\, classic LEGO® video gaming with other builders\, and more! Happens every fourth Sunday of the month. $15 per ticket + taxes. \nWhat’s AFOL Night?\nAFOL Night is a laid-back evening for\, you guessed it: AFOLs (Adult Fan Of LEGO®). You can build\, trade\, play games\, or just hang out with others who are into LEGO® as much as you (judgment-free). \nWhat You Can Do\nThere’s a mix of activities going on\, so you can jump in or just take it easy: \n🎮 Play classic LEGO® video games with fellow gamers!\n🧱 Join building competitions!\n🧠 Try your luck at LEGO® trivia.\n👀 Compete in epic NINJAGO® tournaments.\n🔁 Swap sets and minifigures with other collectors.\n🧱 Show off your custom builds in our unique display area. \nFree pizza is included. Bring your own drinks though! \nPlus: get 15 % off all purchases made in-store while you’re at the event! \n\nWhen’s AFOL Night Happening?\nHere’s what to know before you book: \n📅 Happens every fourth Sunday of the month.\n⏰ 5:00PM – 8:00PM CST.\n📌 At our store (2101 Harwood Rd suite 124).\n💰 $15 per person. \nREGISTER HERE
URL:https://bricksandminifigs.com/grapevine-tx/event/afol-adult-fan-of-lego-night/2026-04-26/
LOCATION:Bricks & Minifigs Grapevine\, Harwood Road\, Bedford\, TX\, 76021\, United States
ATTACH;FMTTYPE=image/png:https://bricksandminifigs.com/grapevine-tx/wp-content/uploads/sites/27/2026/04/BAM-Grapevine-TX-Social-Media-2.png
ORGANIZER;CN="Bricks &amp%3B Minifigs Grapevine":MAILTO:grapevine@bricksandminifigs.com
GEO:32.8537002;-97.1334138
X-APPLE-STRUCTURED-LOCATION;VALUE=URI;X-ADDRESS=Bricks & Minifigs Grapevine Harwood Road Bedford TX 76021 United States;X-APPLE-RADIUS=500;X-TITLE=Harwood Road:geo:-97.1334138,32.8537002
END:VEVENT
BEGIN:VEVENT
DTSTART;TZID=UTC:20260508T183000
DTEND;TZID=UTC:20260508T210000
DTSTAMP:20260424T201811
CREATED:20260424T190605Z
LAST-MODIFIED:20260424T195808Z
UID:4626-1778265000-1778274000@bricksandminifigs.com
SUMMARY:Kids Night Out
DESCRIPTION:Enjoy LEGO® building time\, epic games\, free pizza\, and a take-home LEGO® set. Happens every second Friday every month at $30 per child. \nWhat’s Kids Night Out?\nKids Night Out is an easy way to give your kids a fun evening out while you get a few hours to yourself. They’ll be in a safe\, supervised space where they can build\, play\, and hang out with other young LEGO® fans. \n\nWhat Your Kid Will Do\nThere’s plenty to keep them busy all night\, including: \n🧱 LEGO® building time to unleash their creativity.\n🏎️ Racing car building time and testing ’em in epic races!\n🎬 Watching LEGO® movies.\n🎨 Additional free building time to make whatever they want. \nAnd at the end of the night\, each child gets a small LEGO® set to take home. \nFree pizza and drinks are included. \nWhen’s Kids Night Out Happening?\nHere’s what to know before you book: \n📅 Happens every second Friday of the month.\n⏰ 6:30PM – 9:00PM CST.\n📌 At our store (2101 Harwood Rd suite 124).\n💰 $30 per child. \nIf you’re bringing more than one child\, you can call 682-503-6191 before booking to ask about a sibling discount. \nWhat To Do Before Arriving To keep things running smoothly: \n📄 Please fill out the release and allergy forms ahead of time: https://shorturl.at/0WPhb\n📝 Bring them with you when you check in your child. \nREGISTER HERE
URL:https://bricksandminifigs.com/grapevine-tx/event/kids-night-out/2026-05-08/
LOCATION:Bricks & Minifigs Grapevine\, Harwood Road\, Bedford\, TX\, 76021\, United States
ATTACH;FMTTYPE=image/png:https://bricksandminifigs.com/grapevine-tx/wp-content/uploads/sites/27/2026/04/BAM-Grapevine-TX-Social-Media.png
ORGANIZER;CN="Bricks &amp%3B Minifigs Grapevine":MAILTO:grapevine@bricksandminifigs.com
GEO:32.8537002;-97.1334138
X-APPLE-STRUCTURED-LOCATION;VALUE=URI;X-ADDRESS=Bricks & Minifigs Grapevine Harwood Road Bedford TX 76021 United States;X-APPLE-RADIUS=500;X-TITLE=Harwood Road:geo:-97.1334138,32.8537002
END:VEVENT
BEGIN:VEVENT
DTSTART;TZID=UTC:20260525T130000
DTEND;TZID=UTC:20260529T150000
DTSTAMP:20260424T201811
CREATED:20260424T194937Z
LAST-MODIFIED:20260424T195854Z
UID:4701-1779714000-1780066800@bricksandminifigs.com
SUMMARY:Summer Camp Week — Brick Art Workshop: LEGO® DOTS
DESCRIPTION:Enjoy a LEGO® DOTS art class for 8 kids\, where they’ll learn coloring methods\, make mosaics\, and more. $150 per kid. \nWhat’s Summer Camp Week — Brick Art Workshop: LEGO® DOTS?\nBrick Art Workshop: LEGO® DOTS is a fun\, hands-on summer camp where kids will create designs while learning basic art concepts using LEGO® DOTS (a unique LEGO® set that lets you build custom creations). \nWhat Your Kid Can Do\nParticipants will work on different types of projects during the session:\n🎨 Create mosaic designs.\n🧩 Build patterns using bricks of different colors and shapes.\n🖼️ Make a simple and epic self-portrait. \nWhen’s Summer Camp Week — Brick Art Workshop: LEGO® DOTS Happening?\nHere’s what to know before you book: \n📅 May 25-29\, 2026.\n⏰ 1:00PM – 3:00PM CST daily.\n📌 At our store (2101 Harwood Rd suite 124).\n💰 $150 per kid.\n👀 Limited capacity of 8 kids for the whole week: don’t wait! \nREGISTER HERE
URL:https://bricksandminifigs.com/grapevine-tx/event/summer-camp-week-brick-art-workshop-lego-dots/
LOCATION:Bricks & Minifigs Grapevine\, Harwood Road\, Bedford\, TX\, 76021\, United States
ATTACH;FMTTYPE=image/png:https://bricksandminifigs.com/grapevine-tx/wp-content/uploads/sites/27/2026/04/BAM-Grapevine-TX-Social-Media-3.png
ORGANIZER;CN="Bricks &amp%3B Minifigs Grapevine":MAILTO:grapevine@bricksandminifigs.com
GEO:32.8537002;-97.1334138
X-APPLE-STRUCTURED-LOCATION;VALUE=URI;X-ADDRESS=Bricks & Minifigs Grapevine Harwood Road Bedford TX 76021 United States;X-APPLE-RADIUS=500;X-TITLE=Harwood Road:geo:-97.1334138,32.8537002
END:VEVENT
BEGIN:VEVENT
DTSTART;TZID=UTC:20260601T130000
DTEND;TZID=UTC:20260605T150000
DTSTAMP:20260424T201811
CREATED:20260424T195329Z
LAST-MODIFIED:20260424T195938Z
UID:4704-1780318800-1780671600@bricksandminifigs.com
SUMMARY:Summer Camp Week — Mini Metropolis Makers
DESCRIPTION:Enjoy a LEGO® city building session for 8 kids. $150 per kid for 2 hours everyday from June 1-5\, 2026. \nWhat’s Summer Camp Week — Mini Metropolis Makers?\nMini Metropolis Makers is a hands-on building session where kids build their own\, brick-ing epic LEGO® city. They’ll plan\, build\, and connect different parts into one space. \nWhat Your Kid Can Do\nKids will work on building different parts of a city: \n🏙️ Building common structures\, like buildings and towers.\n🛣️ Create unique streets and layouts.\n🚗 Add details to bring the city together.\n🧱 Combine everything they’ve built into one grand city. \nWhen’s Summer Camp Week — Mini Metropolis Makers Happening?\nHere’s what to know before you book: \n📅 June 1-5\, 2026.\n⏰ 1:00PM – 3:00PM CST daily.\n📌 At our store (2101 Harwood Rd suite 124).\n💰 $150 per kid.\n👀 Limited capacity of 8 kids for the whole week: don’t wait! \nREGISTER HERE
URL:https://bricksandminifigs.com/grapevine-tx/event/summer-camp-week-mini-metropolis-makers/
LOCATION:Bricks & Minifigs Grapevine\, Harwood Road\, Bedford\, TX\, 76021\, United States
ATTACH;FMTTYPE=image/png:https://bricksandminifigs.com/grapevine-tx/wp-content/uploads/sites/27/2026/04/BAM-Grapevine-TX-Social-Media-4.png
ORGANIZER;CN="Bricks &amp%3B Minifigs Grapevine":MAILTO:grapevine@bricksandminifigs.com
GEO:32.8537002;-97.1334138
X-APPLE-STRUCTURED-LOCATION;VALUE=URI;X-ADDRESS=Bricks & Minifigs Grapevine Harwood Road Bedford TX 76021 United States;X-APPLE-RADIUS=500;X-TITLE=Harwood Road:geo:-97.1334138,32.8537002
END:VEVENT
BEGIN:VEVENT
DTSTART;TZID=UTC:20260608T130000
DTEND;TZID=UTC:20260612T200000
DTSTAMP:20260424T201811
CREATED:20260424T200208Z
LAST-MODIFIED:20260424T200208Z
UID:4735-1780923600-1781294400@bricksandminifigs.com
SUMMARY:Summer Camp Week — Brick Flicks Studio
DESCRIPTION:Enjoy hands-on learning for 8 kids\, where they’ll film and build their own movie using bricks. $150 for 2 hours daily from June 8-12\, 2026. \nWhat’s Summer Camp Week —Brick Flicks Studio?\nBrick Flicks Studio is a hands-on session where kids create a short stop-motion movie using LEGO® bricks. They’ll plan\, build\, and film their own movie scenes while putting their out-of-this-world creativity on display. \nWhat Your Kid Can Do\nKids will work through each step of making a simple animation: \n🎬 Plan a short story.\n🧱 Build scenes and characters with LEGO® bricks.\n📸 Take photos to create motion.\n🎞️ Put scenes together into a short film. \nWhen’s Summer Camp Week —Brick Flicks Studio Happening?\nHere’s what to know before you book: \n📅 June 8-12\, 2026.\n⏰ 1:00PM – 3:00PM CST daily.\n📌 At our store (2101 Harwood Rd suite 124).\n💰 $150 per kid.\n👀 Limited capacity of 8 kids for the whole week: don’t wait! \nREGISTER HERE
URL:https://bricksandminifigs.com/grapevine-tx/event/summer-camp-week-brick-flicks-studio/
LOCATION:Bricks & Minifigs Grapevine\, Harwood Road\, Bedford\, TX\, 76021\, United States
ATTACH;FMTTYPE=image/png:https://bricksandminifigs.com/grapevine-tx/wp-content/uploads/sites/27/2026/04/BAM-Grapevine-TX-Social-Media-5.png
ORGANIZER;CN="Bricks &amp%3B Minifigs Grapevine":MAILTO:grapevine@bricksandminifigs.com
GEO:32.8537002;-97.1334138
X-APPLE-STRUCTURED-LOCATION;VALUE=URI;X-ADDRESS=Bricks & Minifigs Grapevine Harwood Road Bedford TX 76021 United States;X-APPLE-RADIUS=500;X-TITLE=Harwood Road:geo:-97.1334138,32.8537002
END:VEVENT
END:VCALENDAR