BEGIN:VCALENDAR
VERSION:2.0
PRODID:-//Texas – Grapevine - ECPv6.5.1.5//NONSGML v1.0//EN
CALSCALE:GREGORIAN
METHOD:PUBLISH
X-WR-CALNAME:Texas – Grapevine
X-ORIGINAL-URL:https://bricksandminifigs.com/grapevine-tx
X-WR-CALDESC:Events for Texas – Grapevine
REFRESH-INTERVAL;VALUE=DURATION:PT1H
X-Robots-Tag:noindex
X-PUBLISHED-TTL:PT1H
BEGIN:VTIMEZONE
TZID:UTC
BEGIN:STANDARD
TZOFFSETFROM:+0000
TZOFFSETTO:+0000
TZNAME:UTC
DTSTART:20260101T000000
END:STANDARD
END:VTIMEZONE
BEGIN:VEVENT
DTSTART;TZID=UTC:20260522T183000
DTEND;TZID=UTC:20260522T210000
DTSTAMP:20260425T011836
CREATED:20260424T192019Z
LAST-MODIFIED:20260424T195639Z
UID:4665-1779474600-1779483600@bricksandminifigs.com
SUMMARY:Teen Night Out
DESCRIPTION:Enjoy LEGO® building time\, play video games\, meet fellow LEGO® fans\, and more! Happens every fourth Friday of the month for $30 per teen. \nREGISTER HERE
URL:https://bricksandminifigs.com/grapevine-tx/event/teen-night-out/2026-05-22/
LOCATION:Bricks & Minifigs Grapevine\, Harwood Road\, Bedford\, TX\, 76021\, United States
ATTACH;FMTTYPE=image/png:https://bricksandminifigs.com/grapevine-tx/wp-content/uploads/sites/27/2026/04/BAM-Grapevine-TX-Social-Media-1.png
ORGANIZER;CN="Bricks &amp%3B Minifigs Grapevine":MAILTO:grapevine@bricksandminifigs.com
GEO:32.8537002;-97.1334138
X-APPLE-STRUCTURED-LOCATION;VALUE=URI;X-ADDRESS=Bricks & Minifigs Grapevine Harwood Road Bedford TX 76021 United States;X-APPLE-RADIUS=500;X-TITLE=Harwood Road:geo:-97.1334138,32.8537002
END:VEVENT
BEGIN:VEVENT
DTSTART;TZID=UTC:20260626T183000
DTEND;TZID=UTC:20260626T210000
DTSTAMP:20260425T011836
CREATED:20260424T192019Z
LAST-MODIFIED:20260424T195641Z
UID:4666-1782498600-1782507600@bricksandminifigs.com
SUMMARY:Teen Night Out
DESCRIPTION:Enjoy LEGO® building time\, play video games\, meet fellow LEGO® fans\, and more! Happens every fourth Friday of the month for $30 per teen. \nREGISTER HERE
URL:https://bricksandminifigs.com/grapevine-tx/event/teen-night-out/2026-06-26/
LOCATION:Bricks & Minifigs Grapevine\, Harwood Road\, Bedford\, TX\, 76021\, United States
ATTACH;FMTTYPE=image/png:https://bricksandminifigs.com/grapevine-tx/wp-content/uploads/sites/27/2026/04/BAM-Grapevine-TX-Social-Media-1.png
ORGANIZER;CN="Bricks &amp%3B Minifigs Grapevine":MAILTO:grapevine@bricksandminifigs.com
GEO:32.8537002;-97.1334138
X-APPLE-STRUCTURED-LOCATION;VALUE=URI;X-ADDRESS=Bricks & Minifigs Grapevine Harwood Road Bedford TX 76021 United States;X-APPLE-RADIUS=500;X-TITLE=Harwood Road:geo:-97.1334138,32.8537002
END:VEVENT
BEGIN:VEVENT
DTSTART;TZID=UTC:20260724T183000
DTEND;TZID=UTC:20260724T210000
DTSTAMP:20260425T011836
CREATED:20260424T192019Z
LAST-MODIFIED:20260424T195642Z
UID:4667-1784917800-1784926800@bricksandminifigs.com
SUMMARY:Teen Night Out
DESCRIPTION:Enjoy LEGO® building time\, play video games\, meet fellow LEGO® fans\, and more! Happens every fourth Friday of the month for $30 per teen. \nREGISTER HERE
URL:https://bricksandminifigs.com/grapevine-tx/event/teen-night-out/2026-07-24/
LOCATION:Bricks & Minifigs Grapevine\, Harwood Road\, Bedford\, TX\, 76021\, United States
ATTACH;FMTTYPE=image/png:https://bricksandminifigs.com/grapevine-tx/wp-content/uploads/sites/27/2026/04/BAM-Grapevine-TX-Social-Media-1.png
ORGANIZER;CN="Bricks &amp%3B Minifigs Grapevine":MAILTO:grapevine@bricksandminifigs.com
GEO:32.8537002;-97.1334138
X-APPLE-STRUCTURED-LOCATION;VALUE=URI;X-ADDRESS=Bricks & Minifigs Grapevine Harwood Road Bedford TX 76021 United States;X-APPLE-RADIUS=500;X-TITLE=Harwood Road:geo:-97.1334138,32.8537002
END:VEVENT
BEGIN:VEVENT
DTSTART;TZID=UTC:20260828T183000
DTEND;TZID=UTC:20260828T210000
DTSTAMP:20260425T011837
CREATED:20260424T192019Z
LAST-MODIFIED:20260424T195643Z
UID:4668-1787941800-1787950800@bricksandminifigs.com
SUMMARY:Teen Night Out
DESCRIPTION:Enjoy LEGO® building time\, play video games\, meet fellow LEGO® fans\, and more! Happens every fourth Friday of the month for $30 per teen. \nREGISTER HERE
URL:https://bricksandminifigs.com/grapevine-tx/event/teen-night-out/2026-08-28/
LOCATION:Bricks & Minifigs Grapevine\, Harwood Road\, Bedford\, TX\, 76021\, United States
ATTACH;FMTTYPE=image/png:https://bricksandminifigs.com/grapevine-tx/wp-content/uploads/sites/27/2026/04/BAM-Grapevine-TX-Social-Media-1.png
ORGANIZER;CN="Bricks &amp%3B Minifigs Grapevine":MAILTO:grapevine@bricksandminifigs.com
GEO:32.8537002;-97.1334138
X-APPLE-STRUCTURED-LOCATION;VALUE=URI;X-ADDRESS=Bricks & Minifigs Grapevine Harwood Road Bedford TX 76021 United States;X-APPLE-RADIUS=500;X-TITLE=Harwood Road:geo:-97.1334138,32.8537002
END:VEVENT
BEGIN:VEVENT
DTSTART;TZID=UTC:20260925T183000
DTEND;TZID=UTC:20260925T210000
DTSTAMP:20260425T011837
CREATED:20260424T192019Z
LAST-MODIFIED:20260424T195645Z
UID:4669-1790361000-1790370000@bricksandminifigs.com
SUMMARY:Teen Night Out
DESCRIPTION:Enjoy LEGO® building time\, play video games\, meet fellow LEGO® fans\, and more! Happens every fourth Friday of the month for $30 per teen. \nREGISTER HERE
URL:https://bricksandminifigs.com/grapevine-tx/event/teen-night-out/2026-09-25/
LOCATION:Bricks & Minifigs Grapevine\, Harwood Road\, Bedford\, TX\, 76021\, United States
ATTACH;FMTTYPE=image/png:https://bricksandminifigs.com/grapevine-tx/wp-content/uploads/sites/27/2026/04/BAM-Grapevine-TX-Social-Media-1.png
ORGANIZER;CN="Bricks &amp%3B Minifigs Grapevine":MAILTO:grapevine@bricksandminifigs.com
GEO:32.8537002;-97.1334138
X-APPLE-STRUCTURED-LOCATION;VALUE=URI;X-ADDRESS=Bricks & Minifigs Grapevine Harwood Road Bedford TX 76021 United States;X-APPLE-RADIUS=500;X-TITLE=Harwood Road:geo:-97.1334138,32.8537002
END:VEVENT
BEGIN:VEVENT
DTSTART;TZID=UTC:20261023T183000
DTEND;TZID=UTC:20261023T210000
DTSTAMP:20260425T011837
CREATED:20260424T192019Z
LAST-MODIFIED:20260424T195646Z
UID:4670-1792780200-1792789200@bricksandminifigs.com
SUMMARY:Teen Night Out
DESCRIPTION:Enjoy LEGO® building time\, play video games\, meet fellow LEGO® fans\, and more! Happens every fourth Friday of the month for $30 per teen. \nREGISTER HERE
URL:https://bricksandminifigs.com/grapevine-tx/event/teen-night-out/2026-10-23/
LOCATION:Bricks & Minifigs Grapevine\, Harwood Road\, Bedford\, TX\, 76021\, United States
ATTACH;FMTTYPE=image/png:https://bricksandminifigs.com/grapevine-tx/wp-content/uploads/sites/27/2026/04/BAM-Grapevine-TX-Social-Media-1.png
ORGANIZER;CN="Bricks &amp%3B Minifigs Grapevine":MAILTO:grapevine@bricksandminifigs.com
GEO:32.8537002;-97.1334138
X-APPLE-STRUCTURED-LOCATION;VALUE=URI;X-ADDRESS=Bricks & Minifigs Grapevine Harwood Road Bedford TX 76021 United States;X-APPLE-RADIUS=500;X-TITLE=Harwood Road:geo:-97.1334138,32.8537002
END:VEVENT
BEGIN:VEVENT
DTSTART;TZID=UTC:20261127T183000
DTEND;TZID=UTC:20261127T210000
DTSTAMP:20260425T011837
CREATED:20260424T192019Z
LAST-MODIFIED:20260424T195648Z
UID:4671-1795804200-1795813200@bricksandminifigs.com
SUMMARY:Teen Night Out
DESCRIPTION:Enjoy LEGO® building time\, play video games\, meet fellow LEGO® fans\, and more! Happens every fourth Friday of the month for $30 per teen. \nREGISTER HERE
URL:https://bricksandminifigs.com/grapevine-tx/event/teen-night-out/2026-11-27/
LOCATION:Bricks & Minifigs Grapevine\, Harwood Road\, Bedford\, TX\, 76021\, United States
ATTACH;FMTTYPE=image/png:https://bricksandminifigs.com/grapevine-tx/wp-content/uploads/sites/27/2026/04/BAM-Grapevine-TX-Social-Media-1.png
ORGANIZER;CN="Bricks &amp%3B Minifigs Grapevine":MAILTO:grapevine@bricksandminifigs.com
GEO:32.8537002;-97.1334138
X-APPLE-STRUCTURED-LOCATION;VALUE=URI;X-ADDRESS=Bricks & Minifigs Grapevine Harwood Road Bedford TX 76021 United States;X-APPLE-RADIUS=500;X-TITLE=Harwood Road:geo:-97.1334138,32.8537002
END:VEVENT
END:VCALENDAR