BEGIN:VCALENDAR
VERSION:2.0
PRODID:-//Texas – Grapevine - ECPv6.5.1.5//NONSGML v1.0//EN
CALSCALE:GREGORIAN
METHOD:PUBLISH
X-WR-CALNAME:Texas – Grapevine
X-ORIGINAL-URL:https://bricksandminifigs.com/grapevine-tx
X-WR-CALDESC:Events for Texas – Grapevine
REFRESH-INTERVAL;VALUE=DURATION:PT1H
X-Robots-Tag:noindex
X-PUBLISHED-TTL:PT1H
BEGIN:VTIMEZONE
TZID:UTC
BEGIN:STANDARD
TZOFFSETFROM:+0000
TZOFFSETTO:+0000
TZNAME:UTC
DTSTART:20260101T000000
END:STANDARD
END:VTIMEZONE
BEGIN:VEVENT
DTSTART;TZID=UTC:20260508T183000
DTEND;TZID=UTC:20260508T210000
DTSTAMP:20260425T015954
CREATED:20260424T190605Z
LAST-MODIFIED:20260424T195808Z
UID:4626-1778265000-1778274000@bricksandminifigs.com
SUMMARY:Kids Night Out
DESCRIPTION:Enjoy LEGO® building time\, epic games\, free pizza\, and a take-home LEGO® set. Happens every second Friday every month at $30 per child. \nWhat’s Kids Night Out?\nKids Night Out is an easy way to give your kids a fun evening out while you get a few hours to yourself. They’ll be in a safe\, supervised space where they can build\, play\, and hang out with other young LEGO® fans. \n\nWhat Your Kid Will Do\nThere’s plenty to keep them busy all night\, including: \n🧱 LEGO® building time to unleash their creativity.\n🏎️ Racing car building time and testing ’em in epic races!\n🎬 Watching LEGO® movies.\n🎨 Additional free building time to make whatever they want. \nAnd at the end of the night\, each child gets a small LEGO® set to take home. \nFree pizza and drinks are included. \nWhen’s Kids Night Out Happening?\nHere’s what to know before you book: \n📅 Happens every second Friday of the month.\n⏰ 6:30PM – 9:00PM CST.\n📌 At our store (2101 Harwood Rd suite 124).\n💰 $30 per child. \nIf you’re bringing more than one child\, you can call 682-503-6191 before booking to ask about a sibling discount. \nWhat To Do Before Arriving To keep things running smoothly: \n📄 Please fill out the release and allergy forms ahead of time: https://shorturl.at/0WPhb\n📝 Bring them with you when you check in your child. \nREGISTER HERE
URL:https://bricksandminifigs.com/grapevine-tx/event/kids-night-out/2026-05-08/
LOCATION:Bricks & Minifigs Grapevine\, Harwood Road\, Bedford\, TX\, 76021\, United States
ATTACH;FMTTYPE=image/png:https://bricksandminifigs.com/grapevine-tx/wp-content/uploads/sites/27/2026/04/BAM-Grapevine-TX-Social-Media.png
ORGANIZER;CN="Bricks &amp%3B Minifigs Grapevine":MAILTO:grapevine@bricksandminifigs.com
GEO:32.8537002;-97.1334138
X-APPLE-STRUCTURED-LOCATION;VALUE=URI;X-ADDRESS=Bricks & Minifigs Grapevine Harwood Road Bedford TX 76021 United States;X-APPLE-RADIUS=500;X-TITLE=Harwood Road:geo:-97.1334138,32.8537002
END:VEVENT
BEGIN:VEVENT
DTSTART;TZID=UTC:20260612T183000
DTEND;TZID=UTC:20260612T210000
DTSTAMP:20260425T015954
CREATED:20260424T190605Z
LAST-MODIFIED:20260424T195809Z
UID:4627-1781289000-1781298000@bricksandminifigs.com
SUMMARY:Kids Night Out
DESCRIPTION:Enjoy LEGO® building time\, epic games\, free pizza\, and a take-home LEGO® set. Happens every second Friday every month at $30 per child. \nWhat’s Kids Night Out?\nKids Night Out is an easy way to give your kids a fun evening out while you get a few hours to yourself. They’ll be in a safe\, supervised space where they can build\, play\, and hang out with other young LEGO® fans. \n\nWhat Your Kid Will Do\nThere’s plenty to keep them busy all night\, including: \n🧱 LEGO® building time to unleash their creativity.\n🏎️ Racing car building time and testing ’em in epic races!\n🎬 Watching LEGO® movies.\n🎨 Additional free building time to make whatever they want. \nAnd at the end of the night\, each child gets a small LEGO® set to take home. \nFree pizza and drinks are included. \nWhen’s Kids Night Out Happening?\nHere’s what to know before you book: \n📅 Happens every second Friday of the month.\n⏰ 6:30PM – 9:00PM CST.\n📌 At our store (2101 Harwood Rd suite 124).\n💰 $30 per child. \nIf you’re bringing more than one child\, you can call 682-503-6191 before booking to ask about a sibling discount. \nWhat To Do Before Arriving To keep things running smoothly: \n📄 Please fill out the release and allergy forms ahead of time: https://shorturl.at/0WPhb\n📝 Bring them with you when you check in your child. \nREGISTER HERE
URL:https://bricksandminifigs.com/grapevine-tx/event/kids-night-out/2026-06-12/
LOCATION:Bricks & Minifigs Grapevine\, Harwood Road\, Bedford\, TX\, 76021\, United States
ATTACH;FMTTYPE=image/png:https://bricksandminifigs.com/grapevine-tx/wp-content/uploads/sites/27/2026/04/BAM-Grapevine-TX-Social-Media.png
ORGANIZER;CN="Bricks &amp%3B Minifigs Grapevine":MAILTO:grapevine@bricksandminifigs.com
GEO:32.8537002;-97.1334138
X-APPLE-STRUCTURED-LOCATION;VALUE=URI;X-ADDRESS=Bricks & Minifigs Grapevine Harwood Road Bedford TX 76021 United States;X-APPLE-RADIUS=500;X-TITLE=Harwood Road:geo:-97.1334138,32.8537002
END:VEVENT
BEGIN:VEVENT
DTSTART;TZID=UTC:20260710T183000
DTEND;TZID=UTC:20260710T210000
DTSTAMP:20260425T015954
CREATED:20260424T190605Z
LAST-MODIFIED:20260424T195810Z
UID:4628-1783708200-1783717200@bricksandminifigs.com
SUMMARY:Kids Night Out
DESCRIPTION:Enjoy LEGO® building time\, epic games\, free pizza\, and a take-home LEGO® set. Happens every second Friday every month at $30 per child. \nWhat’s Kids Night Out?\nKids Night Out is an easy way to give your kids a fun evening out while you get a few hours to yourself. They’ll be in a safe\, supervised space where they can build\, play\, and hang out with other young LEGO® fans. \n\nWhat Your Kid Will Do\nThere’s plenty to keep them busy all night\, including: \n🧱 LEGO® building time to unleash their creativity.\n🏎️ Racing car building time and testing ’em in epic races!\n🎬 Watching LEGO® movies.\n🎨 Additional free building time to make whatever they want. \nAnd at the end of the night\, each child gets a small LEGO® set to take home. \nFree pizza and drinks are included. \nWhen’s Kids Night Out Happening?\nHere’s what to know before you book: \n📅 Happens every second Friday of the month.\n⏰ 6:30PM – 9:00PM CST.\n📌 At our store (2101 Harwood Rd suite 124).\n💰 $30 per child. \nIf you’re bringing more than one child\, you can call 682-503-6191 before booking to ask about a sibling discount. \nWhat To Do Before Arriving To keep things running smoothly: \n📄 Please fill out the release and allergy forms ahead of time: https://shorturl.at/0WPhb\n📝 Bring them with you when you check in your child. \nREGISTER HERE
URL:https://bricksandminifigs.com/grapevine-tx/event/kids-night-out/2026-07-10/
LOCATION:Bricks & Minifigs Grapevine\, Harwood Road\, Bedford\, TX\, 76021\, United States
ATTACH;FMTTYPE=image/png:https://bricksandminifigs.com/grapevine-tx/wp-content/uploads/sites/27/2026/04/BAM-Grapevine-TX-Social-Media.png
ORGANIZER;CN="Bricks &amp%3B Minifigs Grapevine":MAILTO:grapevine@bricksandminifigs.com
GEO:32.8537002;-97.1334138
X-APPLE-STRUCTURED-LOCATION;VALUE=URI;X-ADDRESS=Bricks & Minifigs Grapevine Harwood Road Bedford TX 76021 United States;X-APPLE-RADIUS=500;X-TITLE=Harwood Road:geo:-97.1334138,32.8537002
END:VEVENT
BEGIN:VEVENT
DTSTART;TZID=UTC:20260814T183000
DTEND;TZID=UTC:20260814T210000
DTSTAMP:20260425T015954
CREATED:20260424T190605Z
LAST-MODIFIED:20260424T195812Z
UID:4629-1786732200-1786741200@bricksandminifigs.com
SUMMARY:Kids Night Out
DESCRIPTION:Enjoy LEGO® building time\, epic games\, free pizza\, and a take-home LEGO® set. Happens every second Friday every month at $30 per child. \nWhat’s Kids Night Out?\nKids Night Out is an easy way to give your kids a fun evening out while you get a few hours to yourself. They’ll be in a safe\, supervised space where they can build\, play\, and hang out with other young LEGO® fans. \n\nWhat Your Kid Will Do\nThere’s plenty to keep them busy all night\, including: \n🧱 LEGO® building time to unleash their creativity.\n🏎️ Racing car building time and testing ’em in epic races!\n🎬 Watching LEGO® movies.\n🎨 Additional free building time to make whatever they want. \nAnd at the end of the night\, each child gets a small LEGO® set to take home. \nFree pizza and drinks are included. \nWhen’s Kids Night Out Happening?\nHere’s what to know before you book: \n📅 Happens every second Friday of the month.\n⏰ 6:30PM – 9:00PM CST.\n📌 At our store (2101 Harwood Rd suite 124).\n💰 $30 per child. \nIf you’re bringing more than one child\, you can call 682-503-6191 before booking to ask about a sibling discount. \nWhat To Do Before Arriving To keep things running smoothly: \n📄 Please fill out the release and allergy forms ahead of time: https://shorturl.at/0WPhb\n📝 Bring them with you when you check in your child. \nREGISTER HERE
URL:https://bricksandminifigs.com/grapevine-tx/event/kids-night-out/2026-08-14/
LOCATION:Bricks & Minifigs Grapevine\, Harwood Road\, Bedford\, TX\, 76021\, United States
ATTACH;FMTTYPE=image/png:https://bricksandminifigs.com/grapevine-tx/wp-content/uploads/sites/27/2026/04/BAM-Grapevine-TX-Social-Media.png
ORGANIZER;CN="Bricks &amp%3B Minifigs Grapevine":MAILTO:grapevine@bricksandminifigs.com
GEO:32.8537002;-97.1334138
X-APPLE-STRUCTURED-LOCATION;VALUE=URI;X-ADDRESS=Bricks & Minifigs Grapevine Harwood Road Bedford TX 76021 United States;X-APPLE-RADIUS=500;X-TITLE=Harwood Road:geo:-97.1334138,32.8537002
END:VEVENT
BEGIN:VEVENT
DTSTART;TZID=UTC:20260911T183000
DTEND;TZID=UTC:20260911T210000
DTSTAMP:20260425T015954
CREATED:20260424T190605Z
LAST-MODIFIED:20260424T195814Z
UID:4630-1789151400-1789160400@bricksandminifigs.com
SUMMARY:Kids Night Out
DESCRIPTION:Enjoy LEGO® building time\, epic games\, free pizza\, and a take-home LEGO® set. Happens every second Friday every month at $30 per child. \nWhat’s Kids Night Out?\nKids Night Out is an easy way to give your kids a fun evening out while you get a few hours to yourself. They’ll be in a safe\, supervised space where they can build\, play\, and hang out with other young LEGO® fans. \n\nWhat Your Kid Will Do\nThere’s plenty to keep them busy all night\, including: \n🧱 LEGO® building time to unleash their creativity.\n🏎️ Racing car building time and testing ’em in epic races!\n🎬 Watching LEGO® movies.\n🎨 Additional free building time to make whatever they want. \nAnd at the end of the night\, each child gets a small LEGO® set to take home. \nFree pizza and drinks are included. \nWhen’s Kids Night Out Happening?\nHere’s what to know before you book: \n📅 Happens every second Friday of the month.\n⏰ 6:30PM – 9:00PM CST.\n📌 At our store (2101 Harwood Rd suite 124).\n💰 $30 per child. \nIf you’re bringing more than one child\, you can call 682-503-6191 before booking to ask about a sibling discount. \nWhat To Do Before Arriving To keep things running smoothly: \n📄 Please fill out the release and allergy forms ahead of time: https://shorturl.at/0WPhb\n📝 Bring them with you when you check in your child. \nREGISTER HERE
URL:https://bricksandminifigs.com/grapevine-tx/event/kids-night-out/2026-09-11/
LOCATION:Bricks & Minifigs Grapevine\, Harwood Road\, Bedford\, TX\, 76021\, United States
ATTACH;FMTTYPE=image/png:https://bricksandminifigs.com/grapevine-tx/wp-content/uploads/sites/27/2026/04/BAM-Grapevine-TX-Social-Media.png
ORGANIZER;CN="Bricks &amp%3B Minifigs Grapevine":MAILTO:grapevine@bricksandminifigs.com
GEO:32.8537002;-97.1334138
X-APPLE-STRUCTURED-LOCATION;VALUE=URI;X-ADDRESS=Bricks & Minifigs Grapevine Harwood Road Bedford TX 76021 United States;X-APPLE-RADIUS=500;X-TITLE=Harwood Road:geo:-97.1334138,32.8537002
END:VEVENT
BEGIN:VEVENT
DTSTART;TZID=UTC:20261009T183000
DTEND;TZID=UTC:20261009T210000
DTSTAMP:20260425T015954
CREATED:20260424T190605Z
LAST-MODIFIED:20260424T195816Z
UID:4631-1791570600-1791579600@bricksandminifigs.com
SUMMARY:Kids Night Out
DESCRIPTION:Enjoy LEGO® building time\, epic games\, free pizza\, and a take-home LEGO® set. Happens every second Friday every month at $30 per child. \nWhat’s Kids Night Out?\nKids Night Out is an easy way to give your kids a fun evening out while you get a few hours to yourself. They’ll be in a safe\, supervised space where they can build\, play\, and hang out with other young LEGO® fans. \n\nWhat Your Kid Will Do\nThere’s plenty to keep them busy all night\, including: \n🧱 LEGO® building time to unleash their creativity.\n🏎️ Racing car building time and testing ’em in epic races!\n🎬 Watching LEGO® movies.\n🎨 Additional free building time to make whatever they want. \nAnd at the end of the night\, each child gets a small LEGO® set to take home. \nFree pizza and drinks are included. \nWhen’s Kids Night Out Happening?\nHere’s what to know before you book: \n📅 Happens every second Friday of the month.\n⏰ 6:30PM – 9:00PM CST.\n📌 At our store (2101 Harwood Rd suite 124).\n💰 $30 per child. \nIf you’re bringing more than one child\, you can call 682-503-6191 before booking to ask about a sibling discount. \nWhat To Do Before Arriving To keep things running smoothly: \n📄 Please fill out the release and allergy forms ahead of time: https://shorturl.at/0WPhb\n📝 Bring them with you when you check in your child. \nREGISTER HERE
URL:https://bricksandminifigs.com/grapevine-tx/event/kids-night-out/2026-10-09/
LOCATION:Bricks & Minifigs Grapevine\, Harwood Road\, Bedford\, TX\, 76021\, United States
ATTACH;FMTTYPE=image/png:https://bricksandminifigs.com/grapevine-tx/wp-content/uploads/sites/27/2026/04/BAM-Grapevine-TX-Social-Media.png
ORGANIZER;CN="Bricks &amp%3B Minifigs Grapevine":MAILTO:grapevine@bricksandminifigs.com
GEO:32.8537002;-97.1334138
X-APPLE-STRUCTURED-LOCATION;VALUE=URI;X-ADDRESS=Bricks & Minifigs Grapevine Harwood Road Bedford TX 76021 United States;X-APPLE-RADIUS=500;X-TITLE=Harwood Road:geo:-97.1334138,32.8537002
END:VEVENT
BEGIN:VEVENT
DTSTART;TZID=UTC:20261113T183000
DTEND;TZID=UTC:20261113T210000
DTSTAMP:20260425T015954
CREATED:20260424T190605Z
LAST-MODIFIED:20260424T195818Z
UID:4632-1794594600-1794603600@bricksandminifigs.com
SUMMARY:Kids Night Out
DESCRIPTION:Enjoy LEGO® building time\, epic games\, free pizza\, and a take-home LEGO® set. Happens every second Friday every month at $30 per child. \nWhat’s Kids Night Out?\nKids Night Out is an easy way to give your kids a fun evening out while you get a few hours to yourself. They’ll be in a safe\, supervised space where they can build\, play\, and hang out with other young LEGO® fans. \n\nWhat Your Kid Will Do\nThere’s plenty to keep them busy all night\, including: \n🧱 LEGO® building time to unleash their creativity.\n🏎️ Racing car building time and testing ’em in epic races!\n🎬 Watching LEGO® movies.\n🎨 Additional free building time to make whatever they want. \nAnd at the end of the night\, each child gets a small LEGO® set to take home. \nFree pizza and drinks are included. \nWhen’s Kids Night Out Happening?\nHere’s what to know before you book: \n📅 Happens every second Friday of the month.\n⏰ 6:30PM – 9:00PM CST.\n📌 At our store (2101 Harwood Rd suite 124).\n💰 $30 per child. \nIf you’re bringing more than one child\, you can call 682-503-6191 before booking to ask about a sibling discount. \nWhat To Do Before Arriving To keep things running smoothly: \n📄 Please fill out the release and allergy forms ahead of time: https://shorturl.at/0WPhb\n📝 Bring them with you when you check in your child. \nREGISTER HERE
URL:https://bricksandminifigs.com/grapevine-tx/event/kids-night-out/2026-11-13/
LOCATION:Bricks & Minifigs Grapevine\, Harwood Road\, Bedford\, TX\, 76021\, United States
ATTACH;FMTTYPE=image/png:https://bricksandminifigs.com/grapevine-tx/wp-content/uploads/sites/27/2026/04/BAM-Grapevine-TX-Social-Media.png
ORGANIZER;CN="Bricks &amp%3B Minifigs Grapevine":MAILTO:grapevine@bricksandminifigs.com
GEO:32.8537002;-97.1334138
X-APPLE-STRUCTURED-LOCATION;VALUE=URI;X-ADDRESS=Bricks & Minifigs Grapevine Harwood Road Bedford TX 76021 United States;X-APPLE-RADIUS=500;X-TITLE=Harwood Road:geo:-97.1334138,32.8537002
END:VEVENT
BEGIN:VEVENT
DTSTART;TZID=UTC:20261211T183000
DTEND;TZID=UTC:20261211T210000
DTSTAMP:20260425T015954
CREATED:20260424T190605Z
LAST-MODIFIED:20260424T195820Z
UID:4633-1797013800-1797022800@bricksandminifigs.com
SUMMARY:Kids Night Out
DESCRIPTION:Enjoy LEGO® building time\, epic games\, free pizza\, and a take-home LEGO® set. Happens every second Friday every month at $30 per child. \nWhat’s Kids Night Out?\nKids Night Out is an easy way to give your kids a fun evening out while you get a few hours to yourself. They’ll be in a safe\, supervised space where they can build\, play\, and hang out with other young LEGO® fans. \n\nWhat Your Kid Will Do\nThere’s plenty to keep them busy all night\, including: \n🧱 LEGO® building time to unleash their creativity.\n🏎️ Racing car building time and testing ’em in epic races!\n🎬 Watching LEGO® movies.\n🎨 Additional free building time to make whatever they want. \nAnd at the end of the night\, each child gets a small LEGO® set to take home. \nFree pizza and drinks are included. \nWhen’s Kids Night Out Happening?\nHere’s what to know before you book: \n📅 Happens every second Friday of the month.\n⏰ 6:30PM – 9:00PM CST.\n📌 At our store (2101 Harwood Rd suite 124).\n💰 $30 per child. \nIf you’re bringing more than one child\, you can call 682-503-6191 before booking to ask about a sibling discount. \nWhat To Do Before Arriving To keep things running smoothly: \n📄 Please fill out the release and allergy forms ahead of time: https://shorturl.at/0WPhb\n📝 Bring them with you when you check in your child. \nREGISTER HERE
URL:https://bricksandminifigs.com/grapevine-tx/event/kids-night-out/2026-12-11/
LOCATION:Bricks & Minifigs Grapevine\, Harwood Road\, Bedford\, TX\, 76021\, United States
ATTACH;FMTTYPE=image/png:https://bricksandminifigs.com/grapevine-tx/wp-content/uploads/sites/27/2026/04/BAM-Grapevine-TX-Social-Media.png
ORGANIZER;CN="Bricks &amp%3B Minifigs Grapevine":MAILTO:grapevine@bricksandminifigs.com
GEO:32.8537002;-97.1334138
X-APPLE-STRUCTURED-LOCATION;VALUE=URI;X-ADDRESS=Bricks & Minifigs Grapevine Harwood Road Bedford TX 76021 United States;X-APPLE-RADIUS=500;X-TITLE=Harwood Road:geo:-97.1334138,32.8537002
END:VEVENT
END:VCALENDAR