BEGIN:VCALENDAR
VERSION:2.0
PRODID:-//Texas – Grapevine - ECPv6.5.1.5//NONSGML v1.0//EN
CALSCALE:GREGORIAN
METHOD:PUBLISH
X-WR-CALNAME:Texas – Grapevine
X-ORIGINAL-URL:https://bricksandminifigs.com/grapevine-tx
X-WR-CALDESC:Events for Texas – Grapevine
REFRESH-INTERVAL;VALUE=DURATION:PT1H
X-Robots-Tag:noindex
X-PUBLISHED-TTL:PT1H
BEGIN:VTIMEZONE
TZID:UTC
BEGIN:STANDARD
TZOFFSETFROM:+0000
TZOFFSETTO:+0000
TZNAME:UTC
DTSTART:20260101T000000
END:STANDARD
END:VTIMEZONE
BEGIN:VEVENT
DTSTART;TZID=UTC:20260426T170000
DTEND;TZID=UTC:20260426T200000
DTSTAMP:20260425T030343
CREATED:20260424T194344Z
LAST-MODIFIED:20260424T195720Z
UID:4680-1777222800-1777233600@bricksandminifigs.com
SUMMARY:AFOL (Adult Fan Of LEGO®) Night
DESCRIPTION:Enjoy LEGO® swapping\, building time\, classic LEGO® video gaming with other builders\, and more! Happens every fourth Sunday of the month. $15 per ticket + taxes. \nWhat’s AFOL Night?\nAFOL Night is a laid-back evening for\, you guessed it: AFOLs (Adult Fan Of LEGO®). You can build\, trade\, play games\, or just hang out with others who are into LEGO® as much as you (judgment-free). \nWhat You Can Do\nThere’s a mix of activities going on\, so you can jump in or just take it easy: \n🎮 Play classic LEGO® video games with fellow gamers!\n🧱 Join building competitions!\n🧠 Try your luck at LEGO® trivia.\n👀 Compete in epic NINJAGO® tournaments.\n🔁 Swap sets and minifigures with other collectors.\n🧱 Show off your custom builds in our unique display area. \nFree pizza is included. Bring your own drinks though! \nPlus: get 15 % off all purchases made in-store while you’re at the event! \n\nWhen’s AFOL Night Happening?\nHere’s what to know before you book: \n📅 Happens every fourth Sunday of the month.\n⏰ 5:00PM – 8:00PM CST.\n📌 At our store (2101 Harwood Rd suite 124).\n💰 $15 per person. \nREGISTER HERE
URL:https://bricksandminifigs.com/grapevine-tx/event/afol-adult-fan-of-lego-night/2026-04-26/
LOCATION:Bricks & Minifigs Grapevine\, Harwood Road\, Bedford\, TX\, 76021\, United States
ATTACH;FMTTYPE=image/png:https://bricksandminifigs.com/grapevine-tx/wp-content/uploads/sites/27/2026/04/BAM-Grapevine-TX-Social-Media-2.png
ORGANIZER;CN="Bricks &amp%3B Minifigs Grapevine":MAILTO:grapevine@bricksandminifigs.com
GEO:32.8537002;-97.1334138
X-APPLE-STRUCTURED-LOCATION;VALUE=URI;X-ADDRESS=Bricks & Minifigs Grapevine Harwood Road Bedford TX 76021 United States;X-APPLE-RADIUS=500;X-TITLE=Harwood Road:geo:-97.1334138,32.8537002
END:VEVENT
BEGIN:VEVENT
DTSTART;TZID=UTC:20260524T170000
DTEND;TZID=UTC:20260524T200000
DTSTAMP:20260425T030343
CREATED:20260424T194344Z
LAST-MODIFIED:20260424T195721Z
UID:4682-1779642000-1779652800@bricksandminifigs.com
SUMMARY:AFOL (Adult Fan Of LEGO®) Night
DESCRIPTION:Enjoy LEGO® swapping\, building time\, classic LEGO® video gaming with other builders\, and more! Happens every fourth Sunday of the month. $15 per ticket + taxes. \nWhat’s AFOL Night?\nAFOL Night is a laid-back evening for\, you guessed it: AFOLs (Adult Fan Of LEGO®). You can build\, trade\, play games\, or just hang out with others who are into LEGO® as much as you (judgment-free). \nWhat You Can Do\nThere’s a mix of activities going on\, so you can jump in or just take it easy: \n🎮 Play classic LEGO® video games with fellow gamers!\n🧱 Join building competitions!\n🧠 Try your luck at LEGO® trivia.\n👀 Compete in epic NINJAGO® tournaments.\n🔁 Swap sets and minifigures with other collectors.\n🧱 Show off your custom builds in our unique display area. \nFree pizza is included. Bring your own drinks though! \nPlus: get 15 % off all purchases made in-store while you’re at the event! \n\nWhen’s AFOL Night Happening?\nHere’s what to know before you book: \n📅 Happens every fourth Sunday of the month.\n⏰ 5:00PM – 8:00PM CST.\n📌 At our store (2101 Harwood Rd suite 124).\n💰 $15 per person. \nREGISTER HERE
URL:https://bricksandminifigs.com/grapevine-tx/event/afol-adult-fan-of-lego-night/2026-05-24/
LOCATION:Bricks & Minifigs Grapevine\, Harwood Road\, Bedford\, TX\, 76021\, United States
ATTACH;FMTTYPE=image/png:https://bricksandminifigs.com/grapevine-tx/wp-content/uploads/sites/27/2026/04/BAM-Grapevine-TX-Social-Media-2.png
ORGANIZER;CN="Bricks &amp%3B Minifigs Grapevine":MAILTO:grapevine@bricksandminifigs.com
GEO:32.8537002;-97.1334138
X-APPLE-STRUCTURED-LOCATION;VALUE=URI;X-ADDRESS=Bricks & Minifigs Grapevine Harwood Road Bedford TX 76021 United States;X-APPLE-RADIUS=500;X-TITLE=Harwood Road:geo:-97.1334138,32.8537002
END:VEVENT
BEGIN:VEVENT
DTSTART;TZID=UTC:20260628T170000
DTEND;TZID=UTC:20260628T200000
DTSTAMP:20260425T030343
CREATED:20260424T194344Z
LAST-MODIFIED:20260424T195722Z
UID:4683-1782666000-1782676800@bricksandminifigs.com
SUMMARY:AFOL (Adult Fan Of LEGO®) Night
DESCRIPTION:Enjoy LEGO® swapping\, building time\, classic LEGO® video gaming with other builders\, and more! Happens every fourth Sunday of the month. $15 per ticket + taxes. \nWhat’s AFOL Night?\nAFOL Night is a laid-back evening for\, you guessed it: AFOLs (Adult Fan Of LEGO®). You can build\, trade\, play games\, or just hang out with others who are into LEGO® as much as you (judgment-free). \nWhat You Can Do\nThere’s a mix of activities going on\, so you can jump in or just take it easy: \n🎮 Play classic LEGO® video games with fellow gamers!\n🧱 Join building competitions!\n🧠 Try your luck at LEGO® trivia.\n👀 Compete in epic NINJAGO® tournaments.\n🔁 Swap sets and minifigures with other collectors.\n🧱 Show off your custom builds in our unique display area. \nFree pizza is included. Bring your own drinks though! \nPlus: get 15 % off all purchases made in-store while you’re at the event! \n\nWhen’s AFOL Night Happening?\nHere’s what to know before you book: \n📅 Happens every fourth Sunday of the month.\n⏰ 5:00PM – 8:00PM CST.\n📌 At our store (2101 Harwood Rd suite 124).\n💰 $15 per person. \nREGISTER HERE
URL:https://bricksandminifigs.com/grapevine-tx/event/afol-adult-fan-of-lego-night/2026-06-28/
LOCATION:Bricks & Minifigs Grapevine\, Harwood Road\, Bedford\, TX\, 76021\, United States
ATTACH;FMTTYPE=image/png:https://bricksandminifigs.com/grapevine-tx/wp-content/uploads/sites/27/2026/04/BAM-Grapevine-TX-Social-Media-2.png
ORGANIZER;CN="Bricks &amp%3B Minifigs Grapevine":MAILTO:grapevine@bricksandminifigs.com
GEO:32.8537002;-97.1334138
X-APPLE-STRUCTURED-LOCATION;VALUE=URI;X-ADDRESS=Bricks & Minifigs Grapevine Harwood Road Bedford TX 76021 United States;X-APPLE-RADIUS=500;X-TITLE=Harwood Road:geo:-97.1334138,32.8537002
END:VEVENT
BEGIN:VEVENT
DTSTART;TZID=UTC:20260726T170000
DTEND;TZID=UTC:20260726T200000
DTSTAMP:20260425T030343
CREATED:20260424T194344Z
LAST-MODIFIED:20260424T195723Z
UID:4684-1785085200-1785096000@bricksandminifigs.com
SUMMARY:AFOL (Adult Fan Of LEGO®) Night
DESCRIPTION:Enjoy LEGO® swapping\, building time\, classic LEGO® video gaming with other builders\, and more! Happens every fourth Sunday of the month. $15 per ticket + taxes. \nWhat’s AFOL Night?\nAFOL Night is a laid-back evening for\, you guessed it: AFOLs (Adult Fan Of LEGO®). You can build\, trade\, play games\, or just hang out with others who are into LEGO® as much as you (judgment-free). \nWhat You Can Do\nThere’s a mix of activities going on\, so you can jump in or just take it easy: \n🎮 Play classic LEGO® video games with fellow gamers!\n🧱 Join building competitions!\n🧠 Try your luck at LEGO® trivia.\n👀 Compete in epic NINJAGO® tournaments.\n🔁 Swap sets and minifigures with other collectors.\n🧱 Show off your custom builds in our unique display area. \nFree pizza is included. Bring your own drinks though! \nPlus: get 15 % off all purchases made in-store while you’re at the event! \n\nWhen’s AFOL Night Happening?\nHere’s what to know before you book: \n📅 Happens every fourth Sunday of the month.\n⏰ 5:00PM – 8:00PM CST.\n📌 At our store (2101 Harwood Rd suite 124).\n💰 $15 per person. \nREGISTER HERE
URL:https://bricksandminifigs.com/grapevine-tx/event/afol-adult-fan-of-lego-night/2026-07-26/
LOCATION:Bricks & Minifigs Grapevine\, Harwood Road\, Bedford\, TX\, 76021\, United States
ATTACH;FMTTYPE=image/png:https://bricksandminifigs.com/grapevine-tx/wp-content/uploads/sites/27/2026/04/BAM-Grapevine-TX-Social-Media-2.png
ORGANIZER;CN="Bricks &amp%3B Minifigs Grapevine":MAILTO:grapevine@bricksandminifigs.com
GEO:32.8537002;-97.1334138
X-APPLE-STRUCTURED-LOCATION;VALUE=URI;X-ADDRESS=Bricks & Minifigs Grapevine Harwood Road Bedford TX 76021 United States;X-APPLE-RADIUS=500;X-TITLE=Harwood Road:geo:-97.1334138,32.8537002
END:VEVENT
BEGIN:VEVENT
DTSTART;TZID=UTC:20260823T170000
DTEND;TZID=UTC:20260823T200000
DTSTAMP:20260425T030343
CREATED:20260424T194344Z
LAST-MODIFIED:20260424T195724Z
UID:4685-1787504400-1787515200@bricksandminifigs.com
SUMMARY:AFOL (Adult Fan Of LEGO®) Night
DESCRIPTION:Enjoy LEGO® swapping\, building time\, classic LEGO® video gaming with other builders\, and more! Happens every fourth Sunday of the month. $15 per ticket + taxes. \nWhat’s AFOL Night?\nAFOL Night is a laid-back evening for\, you guessed it: AFOLs (Adult Fan Of LEGO®). You can build\, trade\, play games\, or just hang out with others who are into LEGO® as much as you (judgment-free). \nWhat You Can Do\nThere’s a mix of activities going on\, so you can jump in or just take it easy: \n🎮 Play classic LEGO® video games with fellow gamers!\n🧱 Join building competitions!\n🧠 Try your luck at LEGO® trivia.\n👀 Compete in epic NINJAGO® tournaments.\n🔁 Swap sets and minifigures with other collectors.\n🧱 Show off your custom builds in our unique display area. \nFree pizza is included. Bring your own drinks though! \nPlus: get 15 % off all purchases made in-store while you’re at the event! \n\nWhen’s AFOL Night Happening?\nHere’s what to know before you book: \n📅 Happens every fourth Sunday of the month.\n⏰ 5:00PM – 8:00PM CST.\n📌 At our store (2101 Harwood Rd suite 124).\n💰 $15 per person. \nREGISTER HERE
URL:https://bricksandminifigs.com/grapevine-tx/event/afol-adult-fan-of-lego-night/2026-08-23/
LOCATION:Bricks & Minifigs Grapevine\, Harwood Road\, Bedford\, TX\, 76021\, United States
ATTACH;FMTTYPE=image/png:https://bricksandminifigs.com/grapevine-tx/wp-content/uploads/sites/27/2026/04/BAM-Grapevine-TX-Social-Media-2.png
ORGANIZER;CN="Bricks &amp%3B Minifigs Grapevine":MAILTO:grapevine@bricksandminifigs.com
GEO:32.8537002;-97.1334138
X-APPLE-STRUCTURED-LOCATION;VALUE=URI;X-ADDRESS=Bricks & Minifigs Grapevine Harwood Road Bedford TX 76021 United States;X-APPLE-RADIUS=500;X-TITLE=Harwood Road:geo:-97.1334138,32.8537002
END:VEVENT
BEGIN:VEVENT
DTSTART;TZID=UTC:20260927T170000
DTEND;TZID=UTC:20260927T200000
DTSTAMP:20260425T030343
CREATED:20260424T194344Z
LAST-MODIFIED:20260424T195726Z
UID:4686-1790528400-1790539200@bricksandminifigs.com
SUMMARY:AFOL (Adult Fan Of LEGO®) Night
DESCRIPTION:Enjoy LEGO® swapping\, building time\, classic LEGO® video gaming with other builders\, and more! Happens every fourth Sunday of the month. $15 per ticket + taxes. \nWhat’s AFOL Night?\nAFOL Night is a laid-back evening for\, you guessed it: AFOLs (Adult Fan Of LEGO®). You can build\, trade\, play games\, or just hang out with others who are into LEGO® as much as you (judgment-free). \nWhat You Can Do\nThere’s a mix of activities going on\, so you can jump in or just take it easy: \n🎮 Play classic LEGO® video games with fellow gamers!\n🧱 Join building competitions!\n🧠 Try your luck at LEGO® trivia.\n👀 Compete in epic NINJAGO® tournaments.\n🔁 Swap sets and minifigures with other collectors.\n🧱 Show off your custom builds in our unique display area. \nFree pizza is included. Bring your own drinks though! \nPlus: get 15 % off all purchases made in-store while you’re at the event! \n\nWhen’s AFOL Night Happening?\nHere’s what to know before you book: \n📅 Happens every fourth Sunday of the month.\n⏰ 5:00PM – 8:00PM CST.\n📌 At our store (2101 Harwood Rd suite 124).\n💰 $15 per person. \nREGISTER HERE
URL:https://bricksandminifigs.com/grapevine-tx/event/afol-adult-fan-of-lego-night/2026-09-27/
LOCATION:Bricks & Minifigs Grapevine\, Harwood Road\, Bedford\, TX\, 76021\, United States
ATTACH;FMTTYPE=image/png:https://bricksandminifigs.com/grapevine-tx/wp-content/uploads/sites/27/2026/04/BAM-Grapevine-TX-Social-Media-2.png
ORGANIZER;CN="Bricks &amp%3B Minifigs Grapevine":MAILTO:grapevine@bricksandminifigs.com
GEO:32.8537002;-97.1334138
X-APPLE-STRUCTURED-LOCATION;VALUE=URI;X-ADDRESS=Bricks & Minifigs Grapevine Harwood Road Bedford TX 76021 United States;X-APPLE-RADIUS=500;X-TITLE=Harwood Road:geo:-97.1334138,32.8537002
END:VEVENT
BEGIN:VEVENT
DTSTART;TZID=UTC:20261025T170000
DTEND;TZID=UTC:20261025T200000
DTSTAMP:20260425T030343
CREATED:20260424T194344Z
LAST-MODIFIED:20260424T195727Z
UID:4687-1792947600-1792958400@bricksandminifigs.com
SUMMARY:AFOL (Adult Fan Of LEGO®) Night
DESCRIPTION:Enjoy LEGO® swapping\, building time\, classic LEGO® video gaming with other builders\, and more! Happens every fourth Sunday of the month. $15 per ticket + taxes. \nWhat’s AFOL Night?\nAFOL Night is a laid-back evening for\, you guessed it: AFOLs (Adult Fan Of LEGO®). You can build\, trade\, play games\, or just hang out with others who are into LEGO® as much as you (judgment-free). \nWhat You Can Do\nThere’s a mix of activities going on\, so you can jump in or just take it easy: \n🎮 Play classic LEGO® video games with fellow gamers!\n🧱 Join building competitions!\n🧠 Try your luck at LEGO® trivia.\n👀 Compete in epic NINJAGO® tournaments.\n🔁 Swap sets and minifigures with other collectors.\n🧱 Show off your custom builds in our unique display area. \nFree pizza is included. Bring your own drinks though! \nPlus: get 15 % off all purchases made in-store while you’re at the event! \n\nWhen’s AFOL Night Happening?\nHere’s what to know before you book: \n📅 Happens every fourth Sunday of the month.\n⏰ 5:00PM – 8:00PM CST.\n📌 At our store (2101 Harwood Rd suite 124).\n💰 $15 per person. \nREGISTER HERE
URL:https://bricksandminifigs.com/grapevine-tx/event/afol-adult-fan-of-lego-night/2026-10-25/
LOCATION:Bricks & Minifigs Grapevine\, Harwood Road\, Bedford\, TX\, 76021\, United States
ATTACH;FMTTYPE=image/png:https://bricksandminifigs.com/grapevine-tx/wp-content/uploads/sites/27/2026/04/BAM-Grapevine-TX-Social-Media-2.png
ORGANIZER;CN="Bricks &amp%3B Minifigs Grapevine":MAILTO:grapevine@bricksandminifigs.com
GEO:32.8537002;-97.1334138
X-APPLE-STRUCTURED-LOCATION;VALUE=URI;X-ADDRESS=Bricks & Minifigs Grapevine Harwood Road Bedford TX 76021 United States;X-APPLE-RADIUS=500;X-TITLE=Harwood Road:geo:-97.1334138,32.8537002
END:VEVENT
BEGIN:VEVENT
DTSTART;TZID=UTC:20261122T170000
DTEND;TZID=UTC:20261122T200000
DTSTAMP:20260425T030343
CREATED:20260424T194344Z
LAST-MODIFIED:20260424T195729Z
UID:4688-1795366800-1795377600@bricksandminifigs.com
SUMMARY:AFOL (Adult Fan Of LEGO®) Night
DESCRIPTION:Enjoy LEGO® swapping\, building time\, classic LEGO® video gaming with other builders\, and more! Happens every fourth Sunday of the month. $15 per ticket + taxes. \nWhat’s AFOL Night?\nAFOL Night is a laid-back evening for\, you guessed it: AFOLs (Adult Fan Of LEGO®). You can build\, trade\, play games\, or just hang out with others who are into LEGO® as much as you (judgment-free). \nWhat You Can Do\nThere’s a mix of activities going on\, so you can jump in or just take it easy: \n🎮 Play classic LEGO® video games with fellow gamers!\n🧱 Join building competitions!\n🧠 Try your luck at LEGO® trivia.\n👀 Compete in epic NINJAGO® tournaments.\n🔁 Swap sets and minifigures with other collectors.\n🧱 Show off your custom builds in our unique display area. \nFree pizza is included. Bring your own drinks though! \nPlus: get 15 % off all purchases made in-store while you’re at the event! \n\nWhen’s AFOL Night Happening?\nHere’s what to know before you book: \n📅 Happens every fourth Sunday of the month.\n⏰ 5:00PM – 8:00PM CST.\n📌 At our store (2101 Harwood Rd suite 124).\n💰 $15 per person. \nREGISTER HERE
URL:https://bricksandminifigs.com/grapevine-tx/event/afol-adult-fan-of-lego-night/2026-11-22/
LOCATION:Bricks & Minifigs Grapevine\, Harwood Road\, Bedford\, TX\, 76021\, United States
ATTACH;FMTTYPE=image/png:https://bricksandminifigs.com/grapevine-tx/wp-content/uploads/sites/27/2026/04/BAM-Grapevine-TX-Social-Media-2.png
ORGANIZER;CN="Bricks &amp%3B Minifigs Grapevine":MAILTO:grapevine@bricksandminifigs.com
GEO:32.8537002;-97.1334138
X-APPLE-STRUCTURED-LOCATION;VALUE=URI;X-ADDRESS=Bricks & Minifigs Grapevine Harwood Road Bedford TX 76021 United States;X-APPLE-RADIUS=500;X-TITLE=Harwood Road:geo:-97.1334138,32.8537002
END:VEVENT
BEGIN:VEVENT
DTSTART;TZID=UTC:20261227T170000
DTEND;TZID=UTC:20261227T200000
DTSTAMP:20260425T030343
CREATED:20260424T194344Z
LAST-MODIFIED:20260424T195730Z
UID:4689-1798390800-1798401600@bricksandminifigs.com
SUMMARY:AFOL (Adult Fan Of LEGO®) Night
DESCRIPTION:Enjoy LEGO® swapping\, building time\, classic LEGO® video gaming with other builders\, and more! Happens every fourth Sunday of the month. $15 per ticket + taxes. \nWhat’s AFOL Night?\nAFOL Night is a laid-back evening for\, you guessed it: AFOLs (Adult Fan Of LEGO®). You can build\, trade\, play games\, or just hang out with others who are into LEGO® as much as you (judgment-free). \nWhat You Can Do\nThere’s a mix of activities going on\, so you can jump in or just take it easy: \n🎮 Play classic LEGO® video games with fellow gamers!\n🧱 Join building competitions!\n🧠 Try your luck at LEGO® trivia.\n👀 Compete in epic NINJAGO® tournaments.\n🔁 Swap sets and minifigures with other collectors.\n🧱 Show off your custom builds in our unique display area. \nFree pizza is included. Bring your own drinks though! \nPlus: get 15 % off all purchases made in-store while you’re at the event! \n\nWhen’s AFOL Night Happening?\nHere’s what to know before you book: \n📅 Happens every fourth Sunday of the month.\n⏰ 5:00PM – 8:00PM CST.\n📌 At our store (2101 Harwood Rd suite 124).\n💰 $15 per person. \nREGISTER HERE
URL:https://bricksandminifigs.com/grapevine-tx/event/afol-adult-fan-of-lego-night/2026-12-27/
LOCATION:Bricks & Minifigs Grapevine\, Harwood Road\, Bedford\, TX\, 76021\, United States
ATTACH;FMTTYPE=image/png:https://bricksandminifigs.com/grapevine-tx/wp-content/uploads/sites/27/2026/04/BAM-Grapevine-TX-Social-Media-2.png
ORGANIZER;CN="Bricks &amp%3B Minifigs Grapevine":MAILTO:grapevine@bricksandminifigs.com
GEO:32.8537002;-97.1334138
X-APPLE-STRUCTURED-LOCATION;VALUE=URI;X-ADDRESS=Bricks & Minifigs Grapevine Harwood Road Bedford TX 76021 United States;X-APPLE-RADIUS=500;X-TITLE=Harwood Road:geo:-97.1334138,32.8537002
END:VEVENT
END:VCALENDAR