BEGIN:VCALENDAR
VERSION:2.0
PRODID:-//Arizona – Gilbert - ECPv6.5.1.5//NONSGML v1.0//EN
CALSCALE:GREGORIAN
METHOD:PUBLISH
X-WR-CALNAME:Arizona – Gilbert
X-ORIGINAL-URL:https://bricksandminifigs.com/gilbert-az
X-WR-CALDESC:Events for Arizona – Gilbert
REFRESH-INTERVAL;VALUE=DURATION:PT1H
X-Robots-Tag:noindex
X-PUBLISHED-TTL:PT1H
BEGIN:VTIMEZONE
TZID:UTC
BEGIN:STANDARD
TZOFFSETFROM:+0000
TZOFFSETTO:+0000
TZNAME:UTC
DTSTART:20180101T000000
END:STANDARD
END:VTIMEZONE
BEGIN:VEVENT
DTSTART;TZID=UTC:20181214T093000
DTEND;TZID=UTC:20181214T103000
DTSTAMP:20260425T123917
CREATED:20181113T225901Z
LAST-MODIFIED:20181113T225901Z
UID:2735-1544779800-1544783400@bricksandminifigs.com
SUMMARY:Reserved Hosted play
DESCRIPTION:Hosted Play is an event held here at the Boise Bricks and Minifigs shop. It includes of one hour of free play time in our event room with the guidance of one of our Lego experts. This type of event is ideal for school field trips\, day care outings\, and other groups looking for a fun afternoon activity. \nWe provide Lego blocks and base plates to use. Our Host or Hostess will then suggest a theme and will be there to help with any problems. \nFor further details on booking your own Hosted Play event\, please contact us: (208) 377-4386\, boise@bricksandminifigs.com.
URL:https://bricksandminifigs.com/gilbert-az/event/reserved-hosted-play-4/
LOCATION:Bricks and Minifigs Boise\, 10150 W. Fairview Ave.\, Boise\, ID\, 83704\, United States
ATTACH;FMTTYPE=image/jpeg:https://bricksandminifigs.com/gilbert-az/wp-content/uploads/sites/58/2018/11/halloweenbuild.jpg
END:VEVENT
BEGIN:VEVENT
DTSTART;TZID=UTC:20181215T110000
DTEND;TZID=UTC:20181215T123000
DTSTAMP:20260425T123917
CREATED:20181113T234608Z
LAST-MODIFIED:20181113T234608Z
UID:2749-1544871600-1544877000@bricksandminifigs.com
SUMMARY:Birthday Party
DESCRIPTION:This time has been reserved for a Birthday Party! For details on our Birthday Party events and how to book one for a Lego fan you know\, please visit our Parties & Events page\, or contact us: (208) 377- 4386\, boise@bricksandminifigs.com.
URL:https://bricksandminifigs.com/gilbert-az/event/birthday-party-13/
LOCATION:Bricks and Minifigs Boise\, 10150 W. Fairview Ave.\, Boise\, ID\, 83704\, United States
ATTACH;FMTTYPE=image/jpeg:https://bricksandminifigs.com/gilbert-az/wp-content/uploads/sites/58/2018/11/lego-birthdaycake.jpg
END:VEVENT
BEGIN:VEVENT
DTSTART;TZID=UTC:20181215T130000
DTEND;TZID=UTC:20181215T143000
DTSTAMP:20260425T123917
CREATED:20181113T234912Z
LAST-MODIFIED:20181113T234912Z
UID:2751-1544878800-1544884200@bricksandminifigs.com
SUMMARY:Birthday Party
DESCRIPTION:This time has been reserved for a Birthday Party! For details on our Birthday Party events and how to book one for a Lego fan you know\, please visit our Parties & Events page\, or contact us: (208) 377- 4386\, boise@bricksandminifigs.com.
URL:https://bricksandminifigs.com/gilbert-az/event/birthday-party-14/
LOCATION:Bricks and Minifigs Boise\, 10150 W. Fairview Ave.\, Boise\, ID\, 83704\, United States
ATTACH;FMTTYPE=image/jpeg:https://bricksandminifigs.com/gilbert-az/wp-content/uploads/sites/58/2018/11/lego-birthdaycake.jpg
END:VEVENT
BEGIN:VEVENT
DTSTART;TZID=UTC:20181217T130000
DTEND;TZID=UTC:20181217T150000
DTSTAMP:20260425T123917
CREATED:20181114T000710Z
LAST-MODIFIED:20181114T000710Z
UID:2753-1545051600-1545058800@bricksandminifigs.com
SUMMARY:Team Building Event
DESCRIPTION:This time is reserved for a corporate team building event. It will be held on the campus of the company involved in the event. \nWe host a number of corporate training and team building events. They are ideal for fostering teamwork and community cohesiveness. To learn more about how they work\, or how to book such an event for your organization\, please contact us: (208) 377 – 4386\, boise@bricksandminifigs.com.
URL:https://bricksandminifigs.com/gilbert-az/event/team-building-event/
LOCATION:AZ
END:VEVENT
BEGIN:VEVENT
DTSTART;TZID=UTC:20181220T170000
DTEND;TZID=UTC:20181220T183000
DTSTAMP:20260425T123917
CREATED:20181114T002126Z
LAST-MODIFIED:20181114T002126Z
UID:2759-1545325200-1545330600@bricksandminifigs.com
SUMMARY:Birthday Party
DESCRIPTION:This time has been reserved for a Birthday Party! For details on our Birthday Party events and how to book one for a Lego fan you know\, please visit our Parties & Events page\, or contact us: (208) 377- 4386\, boise@bricksandminifigs.com.
URL:https://bricksandminifigs.com/gilbert-az/event/birthday-party-16/
LOCATION:Bricks and Minifigs Boise\, 10150 W. Fairview Ave.\, Boise\, ID\, 83704\, United States
ATTACH;FMTTYPE=image/jpeg:https://bricksandminifigs.com/gilbert-az/wp-content/uploads/sites/58/2018/11/lego-birthdaycake.jpg
END:VEVENT
BEGIN:VEVENT
DTSTART;VALUE=DATE:20181225
DTEND;VALUE=DATE:20181226
DTSTAMP:20260425T123917
CREATED:20181114T005710Z
LAST-MODIFIED:20181114T005710Z
UID:2770-1545696000-1545782399@bricksandminifigs.com
SUMMARY:Closed for Christmas
DESCRIPTION:Merry Christmas!
URL:https://bricksandminifigs.com/gilbert-az/event/closed-for-christmas/
LOCATION:Bricks and Minifigs Boise\, 10150 W. Fairview Ave.\, Boise\, ID\, 83704\, United States
ATTACH;FMTTYPE=image/jpeg:https://bricksandminifigs.com/gilbert-az/wp-content/uploads/sites/58/2018/11/lego-christmas-scene-magnet-853353-15.jpg
END:VEVENT
BEGIN:VEVENT
DTSTART;TZID=UTC:20181229T150000
DTEND;TZID=UTC:20181229T163000
DTSTAMP:20260425T123917
CREATED:20181114T002322Z
LAST-MODIFIED:20181114T002322Z
UID:2761-1546095600-1546101000@bricksandminifigs.com
SUMMARY:Birthday Party
DESCRIPTION:This time has been reserved for a Birthday Party! For details on our Birthday Party events and how to book one for a Lego fan you know\, please visit our Parties & Events page\, or contact us: (208) 377- 4386\, boise@bricksandminifigs.com.
URL:https://bricksandminifigs.com/gilbert-az/event/birthday-party-17/
LOCATION:Bricks and Minifigs Boise\, 10150 W. Fairview Ave.\, Boise\, ID\, 83704\, United States
ATTACH;FMTTYPE=image/jpeg:https://bricksandminifigs.com/gilbert-az/wp-content/uploads/sites/58/2018/11/lego-birthdaycake.jpg
END:VEVENT
BEGIN:VEVENT
DTSTART;TZID=UTC:20181231T160000
DTEND;TZID=UTC:20181231T190000
DTSTAMP:20260425T123917
CREATED:20181114T005411Z
LAST-MODIFIED:20181114T005411Z
UID:2768-1546272000-1546282800@bricksandminifigs.com
SUMMARY:Closing Early for Inventory Count
DESCRIPTION:We will be closing at 4:00 pm for our yearly inventory count!
URL:https://bricksandminifigs.com/gilbert-az/event/closing-early-for-inventory-count/
LOCATION:Bricks and Minifigs Boise\, 10150 W. Fairview Ave.\, Boise\, ID\, 83704\, United States
END:VEVENT
BEGIN:VEVENT
DTSTART;TZID=UTC:20190104T133000
DTEND;TZID=UTC:20190104T143000
DTSTAMP:20260425T123917
CREATED:20181113T201220Z
LAST-MODIFIED:20181113T201220Z
UID:2683-1546608600-1546612200@bricksandminifigs.com
SUMMARY:Reserved Hosted Play
DESCRIPTION:Hosted Play is an event held here at the Boise Bricks and Minifigs shop. It includes of one hour of free play time in our event room with the guidance of one of our Lego experts. This type of event is ideal for school field trips\, day care outings\, and other groups looking for a fun afternoon activity. \nWe provide Lego blocks and base plates to use. Our Host or Hostess will then suggest a theme and will be there to help with any problems. \nFor further details on booking your own Hosted Play event\, please contact us: (208) 377-4386\, boise@bricksandminifigs.com.
URL:https://bricksandminifigs.com/gilbert-az/event/reserved-hosted-play/
LOCATION:Bricks and Minifigs Boise\, 10150 W. Fairview Ave.\, Boise\, ID\, 83704\, United States
ATTACH;FMTTYPE=image/jpeg:https://bricksandminifigs.com/gilbert-az/wp-content/uploads/sites/58/2018/11/FB_IMG_1541440518061-1.jpg
END:VEVENT
BEGIN:VEVENT
DTSTART;TZID=UTC:20190119T130000
DTEND;TZID=UTC:20190119T143000
DTSTAMP:20260425T123917
CREATED:20181113T201949Z
LAST-MODIFIED:20181113T201949Z
UID:2689-1547902800-1547908200@bricksandminifigs.com
SUMMARY:Birthday Party
DESCRIPTION:This time has been reserved for a Birthday Party! For details on our Birthday Party events and how to book one for a Lego fan you know\, please visit our Parties & Events page\, or contact us: (208) 377- 4386\, boise@bricksandminifigs.com.
URL:https://bricksandminifigs.com/gilbert-az/event/birthday-party/
LOCATION:Bricks and Minifigs Boise\, 10150 W. Fairview Ave.\, Boise\, ID\, 83704\, United States
ATTACH;FMTTYPE=image/jpeg:https://bricksandminifigs.com/gilbert-az/wp-content/uploads/sites/58/2018/11/party1.jpg
END:VEVENT
BEGIN:VEVENT
DTSTART;TZID=UTC:20190326T150000
DTEND;TZID=UTC:20190326T163000
DTSTAMP:20260425T123917
CREATED:20181114T002436Z
LAST-MODIFIED:20181114T002436Z
UID:2763-1553612400-1553617800@bricksandminifigs.com
SUMMARY:Birthday Party
DESCRIPTION:This time has been reserved for a Birthday Party! For details on our Birthday Party events and how to book one for a Lego fan you know\, please visit our Parties & Events page\, or contact us: (208) 377- 4386\, boise@bricksandminifigs.com.
URL:https://bricksandminifigs.com/gilbert-az/event/birthday-party-18/
LOCATION:Bricks and Minifigs Boise\, 10150 W. Fairview Ave.\, Boise\, ID\, 83704\, United States
ATTACH;FMTTYPE=image/jpeg:https://bricksandminifigs.com/gilbert-az/wp-content/uploads/sites/58/2018/11/lego-birthdaycake.jpg
END:VEVENT
BEGIN:VEVENT
DTSTART;VALUE=DATE:20211211
DTEND;VALUE=DATE:20211213
DTSTAMP:20260425T123917
CREATED:20211117T005457Z
LAST-MODIFIED:20211117T011544Z
UID:2966-1639180800-1639353599@bricksandminifigs.com
SUMMARY:Grand Opening
DESCRIPTION:Come join us to celebrate the Grand Opening of Bricks & Minifigs Gilbert. Open Saturday from 10 am – 6 pm\, and Sunday from 11-4. The first 100 each day will receive a FREE custom minifig. Plus\, we’ll be raffling off amazing prizes all weekend.
URL:https://bricksandminifigs.com/gilbert-az/event/grand-opening/
LOCATION:Bricks and Minifigs Gilbert\, 4024 E Guadalupe Rd\, Gilbert\, AZ\, 85234
END:VEVENT
BEGIN:VEVENT
DTSTART;VALUE=DATE:20220409
DTEND;VALUE=DATE:20220417
DTSTAMP:20260425T123917
CREATED:20220406T205514Z
LAST-MODIFIED:20220406T205514Z
UID:2990-1649462400-1650153599@bricksandminifigs.com
SUMMARY:Easter Bunny Sticker Giveaway
DESCRIPTION:
URL:https://bricksandminifigs.com/gilbert-az/event/easter-bunny-sticker-giveaway/
LOCATION:AZ
END:VEVENT
BEGIN:VEVENT
DTSTART;VALUE=DATE:20220504
DTEND;VALUE=DATE:20220505
DTSTAMP:20260425T123917
CREATED:20220406T205156Z
LAST-MODIFIED:20220406T205156Z
UID:2987-1651622400-1651708799@bricksandminifigs.com
SUMMARY:May the Fourth- Star Wars Celebration
DESCRIPTION:
URL:https://bricksandminifigs.com/gilbert-az/event/may-fourth-star-wars-celebration/
LOCATION:AZ
END:VEVENT
BEGIN:VEVENT
DTSTART;VALUE=DATE:20220611
DTEND;VALUE=DATE:20220701
DTSTAMP:20260425T123917
CREATED:20220619T001247Z
LAST-MODIFIED:20220619T001247Z
UID:3001-1654905600-1656633599@bricksandminifigs.com
SUMMARY:June Bulk Bucket Promotion
DESCRIPTION:
URL:https://bricksandminifigs.com/gilbert-az/event/june-bulk-bucket-promotion/
LOCATION:AZ
END:VEVENT
BEGIN:VEVENT
DTSTART;VALUE=DATE:20231213
DTEND;VALUE=DATE:20231225
DTSTAMP:20260425T123917
CREATED:20231213T135627Z
LAST-MODIFIED:20231213T135627Z
UID:3030-1702425600-1703462399@bricksandminifigs.com
SUMMARY:12 Days of Brickmas Deals
DESCRIPTION:
URL:https://bricksandminifigs.com/gilbert-az/event/12-days-brickmas-deals/
LOCATION:Bricks and Minifigs Gilbert\, 4024 E Guadalupe Rd\, Gilbert\, AZ\, 85234
END:VEVENT
BEGIN:VEVENT
DTSTART;VALUE=DATE:20240504
DTEND;VALUE=DATE:20240506
DTSTAMP:20260425T123917
CREATED:20240430T031539Z
LAST-MODIFIED:20240430T031539Z
UID:3044-1714780800-1714953599@bricksandminifigs.com
SUMMARY:Star Wars Day - May the Fourth
DESCRIPTION:Celebrate May the Fourth with all things Star Wars at Bricks & Minifigs Mesa Red Mountain. We’ll have a FREE build event at 11:00 and 2:00\, plus sales all day. You’ll find even more Star Wars sets\, minifigures and limited time product we’ve been saving for this Star Wars celebration day! Can’t wait to see you!
URL:https://bricksandminifigs.com/gilbert-az/event/star-wars-day-may-the-fourth/
LOCATION:Bricks and Minifigs Gilbert\, 4024 E Guadalupe Rd\, Gilbert\, AZ\, 85234
END:VEVENT
END:VCALENDAR