BEGIN:VCALENDAR
VERSION:2.0
PRODID:-//Oregon – Eugene - ECPv6.5.1.5//NONSGML v1.0//EN
CALSCALE:GREGORIAN
METHOD:PUBLISH
X-ORIGINAL-URL:https://bricksandminifigs.com/eugene-or
X-WR-CALDESC:Events for Oregon – Eugene
REFRESH-INTERVAL;VALUE=DURATION:PT1H
X-Robots-Tag:noindex
X-PUBLISHED-TTL:PT1H
BEGIN:VTIMEZONE
TZID:America/Los_Angeles
BEGIN:DAYLIGHT
TZOFFSETFROM:-0800
TZOFFSETTO:-0700
TZNAME:PDT
DTSTART:20180311T100000
END:DAYLIGHT
BEGIN:STANDARD
TZOFFSETFROM:-0700
TZOFFSETTO:-0800
TZNAME:PST
DTSTART:20181104T090000
END:STANDARD
BEGIN:DAYLIGHT
TZOFFSETFROM:-0800
TZOFFSETTO:-0700
TZNAME:PDT
DTSTART:20190310T100000
END:DAYLIGHT
BEGIN:STANDARD
TZOFFSETFROM:-0700
TZOFFSETTO:-0800
TZNAME:PST
DTSTART:20191103T090000
END:STANDARD
END:VTIMEZONE
BEGIN:VEVENT
DTSTART;TZID=America/Los_Angeles:20190104T110000
DTEND;TZID=America/Los_Angeles:20190104T120000
DTSTAMP:20260424T194507
CREATED:20181222T194520Z
LAST-MODIFIED:20181222T194520Z
UID:2865-1546599600-1546603200@bricksandminifigs.com
SUMMARY:LEGO Bingo
DESCRIPTION:LEGO-themed Bingo with prizes! All ages. No reservation required. FREE.
URL:https://bricksandminifigs.com/eugene-or/event/lego-bingo/
LOCATION:Bricks & Minifigs Eugene\, 780 Blair Boulevard\, Eugene\, OR\, 97402\, United States
ATTACH;FMTTYPE=image/jpeg:https://bricksandminifigs.com/eugene-or/wp-content/uploads/sites/24/2018/12/Bingo.jpg
END:VEVENT
BEGIN:VEVENT
DTSTART;TZID=America/Los_Angeles:20190103T140000
DTEND;TZID=America/Los_Angeles:20190103T160000
DTSTAMP:20260424T194507
CREATED:20181222T193845Z
LAST-MODIFIED:20181222T194426Z
UID:2861-1546524000-1546531200@bricksandminifigs.com
SUMMARY:Group LEGO Build
DESCRIPTION:Become part of a team and build a LEGO creation together as a group. No reservation required. All ages. FREE.
URL:https://bricksandminifigs.com/eugene-or/event/group-lego-build/
LOCATION:Bricks & Minifigs Eugene\, 780 Blair Boulevard\, Eugene\, OR\, 97402\, United States
ATTACH;FMTTYPE=image/jpeg:https://bricksandminifigs.com/eugene-or/wp-content/uploads/sites/24/2018/12/Group-build.jpg
END:VEVENT
BEGIN:VEVENT
DTSTART;TZID=America/Los_Angeles:20190103T100000
DTEND;TZID=America/Los_Angeles:20190103T120000
DTSTAMP:20260424T194507
CREATED:20181222T193440Z
LAST-MODIFIED:20181222T193440Z
UID:2859-1546509600-1546516800@bricksandminifigs.com
SUMMARY:Free Play
DESCRIPTION:Build LEGO cars\, race\, watch a movie\, and just have fun! All ages. No reservation required. FREE.
URL:https://bricksandminifigs.com/eugene-or/event/free-play-3/
LOCATION:Bricks & Minifigs Eugene\, 780 Blair Boulevard\, Eugene\, OR\, 97402\, United States
ATTACH;FMTTYPE=image/jpeg:https://bricksandminifigs.com/eugene-or/wp-content/uploads/sites/24/2018/12/Free-Play-Quad.jpg
END:VEVENT
BEGIN:VEVENT
DTSTART;TZID=America/Los_Angeles:20190102T123000
DTEND;TZID=America/Los_Angeles:20190102T140000
DTSTAMP:20260424T194507
CREATED:20181222T193151Z
LAST-MODIFIED:20181230T153639Z
UID:2854-1546432200-1546437600@bricksandminifigs.com
SUMMARY:Ninjago Spinner Battles
DESCRIPTION:Build a LEGO minifigure\, grab a Ninjago Spinner\, and see if you can knock down your opponent! Participants will keep the minifigure and the Ninjago Spinner. Reservations required. $10. Call (541) 225-4981. This is a drop-off event for children ages 6+. Under 6 welcome with parent.
URL:https://bricksandminifigs.com/eugene-or/event/ninjago-spinner-battles/
LOCATION:Bricks & Minifigs Eugene\, 780 Blair Boulevard\, Eugene\, OR\, 97402\, United States
ATTACH;FMTTYPE=image/jpeg:https://bricksandminifigs.com/eugene-or/wp-content/uploads/sites/24/2018/12/Ninjago-Spinners.jpg
END:VEVENT
BEGIN:VEVENT
DTSTART;TZID=America/Los_Angeles:20181229T170000
DTEND;TZID=America/Los_Angeles:20181229T183000
DTSTAMP:20260424T194507
CREATED:20181222T193021Z
LAST-MODIFIED:20181222T194849Z
UID:2851-1546102800-1546108200@bricksandminifigs.com
SUMMARY:Movie Night
DESCRIPTION:Grab some popcorn and come watch a LEGO-themed movie or show. All ages. No reservation required. FREE.
URL:https://bricksandminifigs.com/eugene-or/event/movie-night/
LOCATION:Bricks & Minifigs Eugene\, 780 Blair Boulevard\, Eugene\, OR\, 97402\, United States
ATTACH;FMTTYPE=image/png:https://bricksandminifigs.com/eugene-or/wp-content/uploads/sites/24/2018/12/Movie-night.png
END:VEVENT
BEGIN:VEVENT
DTSTART;TZID=America/Los_Angeles:20181228T110000
DTEND;TZID=America/Los_Angeles:20181228T120000
DTSTAMP:20260424T194507
CREATED:20181222T192611Z
LAST-MODIFIED:20181222T192611Z
UID:2845-1545994800-1545998400@bricksandminifigs.com
SUMMARY:Chima Speedorz races
DESCRIPTION:Build a LEGO minifigure\, grab a Chima Speedorz\, and see if you can zip your way through the obstacle course\, jump off ramps\, and make it to the goal! Participants will keep the minifigure and the Chima Speedorz. All ages. Reservations required. $10. Call (541) 225-4981.
URL:https://bricksandminifigs.com/eugene-or/event/chima-speedorz-races/
LOCATION:Bricks & Minifigs Eugene\, 780 Blair Boulevard\, Eugene\, OR\, 97402\, United States
ATTACH;FMTTYPE=image/jpeg:https://bricksandminifigs.com/eugene-or/wp-content/uploads/sites/24/2018/12/Chima-Speedorz.jpg
END:VEVENT
BEGIN:VEVENT
DTSTART;TZID=America/Los_Angeles:20181227T160000
DTEND;TZID=America/Los_Angeles:20181227T180000
DTSTAMP:20260424T194507
CREATED:20181222T192407Z
LAST-MODIFIED:20181222T192456Z
UID:2841-1545926400-1545933600@bricksandminifigs.com
SUMMARY:Build-a-Car Workshop
DESCRIPTION:Build a LEGO car\, race it down our derby track\, and see if you can get the fastest time! Participants will keep the car they build. All ages. Reservations required. $12. Call (541) 225-4981. \n  \n 
URL:https://bricksandminifigs.com/eugene-or/event/build-car-workshop/
LOCATION:Bricks & Minifigs Eugene\, 780 Blair Boulevard\, Eugene\, OR\, 97402\, United States
ATTACH;FMTTYPE=image/jpeg:https://bricksandminifigs.com/eugene-or/wp-content/uploads/sites/24/2018/12/Build-A-Car-Workshop.jpg
END:VEVENT
BEGIN:VEVENT
DTSTART;TZID=America/Los_Angeles:20181222T160000
DTEND;TZID=America/Los_Angeles:20181222T170000
DTSTAMP:20260424T194507
CREATED:20181129T043619Z
LAST-MODIFIED:20181206T070637Z
UID:2810-1545494400-1545498000@bricksandminifigs.com
SUMMARY:Make and Take Snowman
DESCRIPTION:This season\, join Bricks & Minifigs Eugene for one or more of these fun holiday LEGO builds!\nWe’ll build a different LEGO model at each event: \n\nSaturday\, December 8 @ 10:30am – Christmas Tree\nFriday\, December 14 @ 6:00pm – Christmas Ornament (includes choose-your-own customization\nSaturday\, December 22 @ 4:00pm – Snowman\n\nPlease call the store (541) 225-4981 to reserve your spot at any one of these events. The cost is $7 each. Hope to see you there!
URL:https://bricksandminifigs.com/eugene-or/event/make-take-snowman/
LOCATION:Bricks & Minifigs Eugene\, 780 Blair Boulevard\, Eugene\, OR\, 97402\, United States
END:VEVENT
BEGIN:VEVENT
DTSTART;TZID=America/Los_Angeles:20181214T180000
DTEND;TZID=America/Los_Angeles:20181214T190000
DTSTAMP:20260424T194507
CREATED:20181129T042708Z
LAST-MODIFIED:20181206T070623Z
UID:2807-1544810400-1544814000@bricksandminifigs.com
SUMMARY:Make and Take Christmas Ornament
DESCRIPTION:This season\, join Bricks & Minifigs Eugene for one or more of these fun holiday LEGO builds!\nWe’ll build a different LEGO model at each event: \n\nSaturday\, December 8 @ 10:30am – Christmas Tree\nFriday\, December 14 @ 6:00pm – Christmas Ornament (includes choose-your-own customization)\nSaturday\, December 22 @ 4:00pm – Snowman\n\nPlease call the store (541) 225-4981 to reserve your spot at any one of these events. The cost is $7 each. Hope to see you there!
URL:https://bricksandminifigs.com/eugene-or/event/make-take-christmas-ornament/
LOCATION:Bricks & Minifigs Eugene\, 780 Blair Boulevard\, Eugene\, OR\, 97402\, United States
END:VEVENT
BEGIN:VEVENT
DTSTART;TZID=America/Los_Angeles:20181208T103000
DTEND;TZID=America/Los_Angeles:20181208T113000
DTSTAMP:20260424T194507
CREATED:20181129T042005Z
LAST-MODIFIED:20181206T070318Z
UID:2799-1544265000-1544268600@bricksandminifigs.com
SUMMARY:Make and Take Christmas Tree
DESCRIPTION:This season\, join Bricks & Minifigs Eugene for one or more of these fun holiday LEGO builds!\nWe’ll build a different LEGO model at each event: \n\nSaturday\, December 8 @ 10:30am – Christmas Tree\nFriday\, December 14 @ 6:00pm – Christmas Ornament (includes choose-your-own customization)\nSaturday\, December 22 @ 4:00pm – Snowman\n\nPlease call the store (541) 225-4981 to reserve your spot at any one of these events. The cost is $7 each. Hope to see you there!
URL:https://bricksandminifigs.com/eugene-or/event/2799/
LOCATION:Bricks & Minifigs Eugene\, 780 Blair Boulevard\, Eugene\, OR\, 97402\, United States
END:VEVENT
BEGIN:VEVENT
DTSTART;TZID=America/Los_Angeles:20181201T100000
DTEND;TZID=America/Los_Angeles:20181201T180000
DTSTAMP:20260424T194507
CREATED:20181128T053155Z
LAST-MODIFIED:20181128T142601Z
UID:2786-1543658400-1543687200@bricksandminifigs.com
SUMMARY:Celebrate 20 years of LEGO® in the National Toy Hall of Fame!
DESCRIPTION:  \n \nIn 1998\, LEGO® was one of the first toys inducted into the National Toy Hall of Fame\n2018 marks its 20th anniversary and we are celebrating at Bricks & Minifigs! \nWe love that LEGO was named “Toy of the Century” and\, after 60 years and over 400 billion bricks produced\, we wholeheartedly agree. \nLEGO continues to focus on the quality and safety of their products\, and as they continue to inspire and innovate their products\, we just want to say\, “Thank you!  Everything LEGO is awesome!” \nBe part of the Celebration on \nSaturday\, December 1st\nat Bricks & Minifigs Eugene\, and at all Bricks & Minifigs stores nationwide! \nFree Commemorative Minifig and Display Panel!\nThe First 25 Customers will receive a free commemorative “Kid at Heart” minifig and classic LEGO set accessory – complete with display stand! One free item per household\, please. \n\nWait\, there’s more!\n\nYou can also enter to win a National Toy Hall of Fame t-shirt\, and 4 tickets to the Strong Museum of Play\, where you can visit the: \n\nHistory of Electronic Games\nNational Toy Hall of Fame\nWorld Video Game Hall of Fame\nBrian Sutten-Smith Library and Archives of Play\nWoodbury School\nAmerican Journal of Play\n\nNo purchase necessary. Limit one entry per household. \nWe’ll also have free coloring pages and activity sheets for the kids and will be celebrating all day! \nWe hope to see you there!
URL:https://bricksandminifigs.com/eugene-or/event/2786/
LOCATION:Bricks & Minifigs Eugene\, 780 Blair Boulevard\, Eugene\, OR\, 97402\, United States
END:VEVENT
BEGIN:VEVENT
DTSTART;TZID=America/Los_Angeles:20181117T183000
DTEND;TZID=America/Los_Angeles:20181117T200000
DTSTAMP:20260424T194507
CREATED:20181021T011625Z
LAST-MODIFIED:20181021T011625Z
UID:2674-1542479400-1542484800@bricksandminifigs.com
SUMMARY:AFOL MOC Night (Adult Fan of LEGO\, My Own Creation)
DESCRIPTION:Win a $40 bag of bulk LEGO® bricks! \nCalling all AFOLs (Adult Fan of LEGO)! You are invited to our next\, free after-hours event to display\, share\, and discuss your MOCs (My Own Creation) at Bricks and Minifigs Eugene! \nExpert or novice? This is not a competition – just bring your own creation to share\, or simply come to view others. If you bring a creation to share you will be automatically entered into a drawing for a free large bag of pick-your-own Lego bricks (a $40 value!). \nAges 16+ are welcome to come\, share\, and view. Creators will have 30 minutes to unload and set up (6:00pm – 6:30pm) so please choose a creation that can be transported and displayed in that time frame. The event starts at 6:30pm. \nHope to see you there\, and we look forward to seeing more of your outstanding creations! #afol#lego#legomoc
URL:https://bricksandminifigs.com/eugene-or/event/afol-moc-night-adult-fan-of-lego-my-own-creation/
LOCATION:Bricks & Minifigs Eugene\, 780 Blair Boulevard\, Eugene\, OR\, 97402\, United States
ATTACH;FMTTYPE=image/jpeg:https://bricksandminifigs.com/eugene-or/wp-content/uploads/sites/24/2018/10/IMG_1486.jpg
END:VEVENT
BEGIN:VEVENT
DTSTART;TZID=America/Los_Angeles:20181026T160000
DTEND;TZID=America/Los_Angeles:20181026T190000
DTSTAMP:20260424T194507
CREATED:20181025T161151Z
LAST-MODIFIED:20181025T161151Z
UID:2686-1540569600-1540580400@bricksandminifigs.com
SUMMARY:Halloween Scavenger Hunt
DESCRIPTION:Can you find all 13 spooky ghosts hidden around the store? Correctly determine what they are holding to scare their “victims” and you win a prize! Join us Friday\, October 26 any time between 4pm to 7pm for this fun and free event! See a sales associate for your entry form. No purchase necessary. \n \n 
URL:https://bricksandminifigs.com/eugene-or/event/halloween-scavenger-hunt/
LOCATION:Bricks & Minifigs Eugene\, 780 Blair Boulevard\, Eugene\, OR\, 97402\, United States
END:VEVENT
END:VCALENDAR