BEGIN:VCALENDAR
VERSION:2.0
PRODID:-//Oregon – Eugene - ECPv6.5.1.5//NONSGML v1.0//EN
CALSCALE:GREGORIAN
METHOD:PUBLISH
X-WR-CALNAME:Oregon – Eugene
X-ORIGINAL-URL:https://bricksandminifigs.com/eugene-or
X-WR-CALDESC:Events for Oregon – Eugene
REFRESH-INTERVAL;VALUE=DURATION:PT1H
X-Robots-Tag:noindex
X-PUBLISHED-TTL:PT1H
BEGIN:VTIMEZONE
TZID:America/Los_Angeles
BEGIN:DAYLIGHT
TZOFFSETFROM:-0800
TZOFFSETTO:-0700
TZNAME:PDT
DTSTART:20190310T100000
END:DAYLIGHT
BEGIN:STANDARD
TZOFFSETFROM:-0700
TZOFFSETTO:-0800
TZNAME:PST
DTSTART:20191103T090000
END:STANDARD
END:VTIMEZONE
BEGIN:VEVENT
DTSTART;TZID=America/Los_Angeles:20191019T170000
DTEND;TZID=America/Los_Angeles:20191019T200000
DTSTAMP:20260423T142010
CREATED:20191015T170635Z
LAST-MODIFIED:20191015T170635Z
UID:3392-1571504400-1571515200@bricksandminifigs.com
SUMMARY:Bricks & Minifigs at the 4th Annual Pumpkin Auction and Family Halloween Party
DESCRIPTION:Bricks & Minifigs Eugene is proud to be a sponsor of the Adventure Children’s Museum 4th Annual Pumpkin Auction and Family Halloween Party. We’ll be on hand to host a build-your-own LEGO® minifigure activity! \nAdventure Children’s Museum is located inside Valley River Center.
URL:https://bricksandminifigs.com/eugene-or/event/bricks-minifigs-4th-annual-pumpkin-auction-family-halloween-party/
LOCATION:Adventure Children’s Museum\, 490 Valley River Center\, Eugene\, OR\, 97401\, United States
ATTACH;FMTTYPE=image/jpeg:https://bricksandminifigs.com/eugene-or/wp-content/uploads/sites/24/2019/10/70379893_1275258762634091_202403211452088320_o.jpg
END:VEVENT
END:VCALENDAR