BEGIN:VCALENDAR
VERSION:2.0
PRODID:-//Illinois – Carol Stream - ECPv6.5.1.5//NONSGML v1.0//EN
CALSCALE:GREGORIAN
METHOD:PUBLISH
X-WR-CALNAME:Illinois – Carol Stream
X-ORIGINAL-URL:https://bricksandminifigs.com/carolstream-il
X-WR-CALDESC:Events for Illinois – Carol Stream
REFRESH-INTERVAL;VALUE=DURATION:PT1H
X-Robots-Tag:noindex
X-PUBLISHED-TTL:PT1H
BEGIN:VTIMEZONE
TZID:UTC
BEGIN:STANDARD
TZOFFSETFROM:+0000
TZOFFSETTO:+0000
TZNAME:UTC
DTSTART:20180101T000000
END:STANDARD
END:VTIMEZONE
BEGIN:VEVENT
DTSTART;TZID=UTC:20181201T100000
DTEND;TZID=UTC:20181201T180000
DTSTAMP:20260425T150028
CREATED:20181128T215636Z
LAST-MODIFIED:20181128T215636Z
UID:2658-1543658400-1543687200@bricksandminifigs.com
SUMMARY:National Toy Hall of Fame Celebration
DESCRIPTION:We love that LEGO was named “Toy of the Century” and after 60 years and over 400 billion bricks produced\, we wholeheartedly agree. \nLEGO continues to focus on the quality and safety of their products\, and as they continue to inspire and innovate their products\, we just want to say\,\n“Thank you! Everything LEGO is awesome!” \nBe one of the first 50 customers and receive a free commemorative display panel and plate with the Strong Museum of Play\, home to the National Toy Hall of Fame.\nReceive a free commemorative “Kid at Heart” minifig with a classic LEGO set accessory with a $25 purchase or more.\nYou can also enter to win a National Toy Hall of Fame t-shirt\, and 4 tickets to the Strong Museum of Play\, where you can visit the:\n– History of Electronic Games\n– National Toy Hall of Fame\n– World Video Game Hall of Fame\n– Brian Sutten-Smith Library and Archives of Play\n– Woodbury School\n– American Journal of Play \nOther events include free coloring pages\, activity sheets\, and more! \nWe hope to see you there!
URL:https://bricksandminifigs.com/carolstream-il/event/national-toy-hall-fame-celebration/
LOCATION:IL
ATTACH;FMTTYPE=image/jpeg:https://bricksandminifigs.com/carolstream-il/wp-content/uploads/sites/46/2018/11/NTHOF-background-panel.jpg
END:VEVENT
END:VCALENDAR