BEGIN:VCALENDAR
VERSION:2.0
PRODID:-//Oregon – Canby - ECPv6.5.1.5//NONSGML v1.0//EN
CALSCALE:GREGORIAN
METHOD:PUBLISH
X-ORIGINAL-URL:https://bricksandminifigs.com/canby-or
X-WR-CALDESC:Events for Oregon – Canby
REFRESH-INTERVAL;VALUE=DURATION:PT1H
X-Robots-Tag:noindex
X-PUBLISHED-TTL:PT1H
BEGIN:VTIMEZONE
TZID:America/Los_Angeles
BEGIN:DAYLIGHT
TZOFFSETFROM:-0800
TZOFFSETTO:-0700
TZNAME:PDT
DTSTART:20190310T100000
END:DAYLIGHT
BEGIN:STANDARD
TZOFFSETFROM:-0700
TZOFFSETTO:-0800
TZNAME:PST
DTSTART:20191103T090000
END:STANDARD
END:VTIMEZONE
BEGIN:VEVENT
DTSTART;TZID=America/Los_Angeles:20191125T100000
DTEND;TZID=America/Los_Angeles:20191201T170000
DTSTAMP:20260422T060904
CREATED:20191120T004330Z
LAST-MODIFIED:20191125T181540Z
UID:3163-1574676000-1575219600@bricksandminifigs.com
SUMMARY:Block Deal Days
DESCRIPTION:LEGO Holiday Savings begin Monday\, November 25th at Bricks & Minifigs Canby with Block Deal Days! \nEveryday of the week more discounts are added\, culminating in our biggest sale of the year on Block Friday\, November 29th!  Block Deal Days continue through Sunday\, December 1st as well\, so stop in\, start saving\, and get building at Bricks & Minifigs Canby!  Awesome! \nSale Details will be announced soon!
URL:https://bricksandminifigs.com/canby-or/event/block-deal-days-2/
LOCATION:Bricks & Minifigs Canby
CATEGORIES:Sale
ATTACH;FMTTYPE=image/jpeg:https://bricksandminifigs.com/canby-or/wp-content/uploads/sites/17/2019/11/2019-Block-Deal-Days-Just-Deals.jpg
END:VEVENT
BEGIN:VEVENT
DTSTART;TZID=America/Los_Angeles:20191129T090000
DTEND;TZID=America/Los_Angeles:20191129T190000
DTSTAMP:20260422T060904
CREATED:20191119T233150Z
LAST-MODIFIED:20191127T023614Z
UID:3160-1575018000-1575054000@bricksandminifigs.com
SUMMARY:Block Friday Sale!
DESCRIPTION:Block Friday\, November 29th is Canby Bricks & Minifigs’ Biggest Sale of the Year! \nPlease join us outside at 8:15 am for Snacks\, Cider\, Live Entertainment and awesome free swag while supplies last! \nDoors open at 9 am! \n30% Off Used Built LEGO Sets!\n20% Off Certified Complete Used LEGO Sets!\n10% Off New LEGO Sets!\nBuy 2 Get 1 Free Loose\, Case Minifigures!\nBuy 1 Get 1 Free U-Pick Bulk Bags & Tubs!\n$75 2020 Brick Parties!\nFree Swag while supplies last!\nPlus additional sales on DUPLO\, Bricks Arms\, Books\, and More!!! \nWe hope you can join us friends!!
URL:https://bricksandminifigs.com/canby-or/event/block-friday-sale-2/
LOCATION:Bricks & Minifigs Canby
ATTACH;FMTTYPE=image/jpeg:https://bricksandminifigs.com/canby-or/wp-content/uploads/sites/17/2019/11/Block-Friday-Web.jpg
END:VEVENT
END:VCALENDAR