BEGIN:VCALENDAR
VERSION:2.0
PRODID:-//Oregon – Canby - ECPv6.5.1.5//NONSGML v1.0//EN
CALSCALE:GREGORIAN
METHOD:PUBLISH
X-WR-CALNAME:Oregon – Canby
X-ORIGINAL-URL:https://bricksandminifigs.com/canby-or
X-WR-CALDESC:Events for Oregon – Canby
REFRESH-INTERVAL;VALUE=DURATION:PT1H
X-Robots-Tag:noindex
X-PUBLISHED-TTL:PT1H
BEGIN:VTIMEZONE
TZID:America/Los_Angeles
BEGIN:DAYLIGHT
TZOFFSETFROM:-0800
TZOFFSETTO:-0700
TZNAME:PDT
DTSTART:20190310T100000
END:DAYLIGHT
BEGIN:STANDARD
TZOFFSETFROM:-0700
TZOFFSETTO:-0800
TZNAME:PST
DTSTART:20191103T090000
END:STANDARD
END:VTIMEZONE
BEGIN:VEVENT
DTSTART;TZID=America/Los_Angeles:20191004T100000
DTEND;TZID=America/Los_Angeles:20191004T190000
DTSTAMP:20260423T014440
CREATED:20191003T031908Z
LAST-MODIFIED:20191003T031908Z
UID:3122-1570183200-1570215600@bricksandminifigs.com
SUMMARY:Force Friday Star Wars Sale and Celebration!
DESCRIPTION:LEGO Star Wars Sale and Celebration! \n\n20% Off Used LEGO Star Wars Sets!\nBuy 3\, Get 1 Free Star Wars Minifigures!\nFree LEGO Droid Figure with $5 Purchase!\n\nPlus drop in anytime for these FREE Family Activities: \n\nCostume Contest: Dress as your favorite Star Wars Character and you could win a $30 Hand-Painted LEGO Clone Trooper!\nScavenger Hunt: Find all of the hidden minifigures to take home a Sci-Fi Brick Arms Prize!\nRaffle: Enter to win a FREE Brick Party\, no purchase necessary!\n\nWe hope you can make it to this fun\, free family event!!!
URL:https://bricksandminifigs.com/canby-or/event/force-friday-star-wars-sale-celebration/
LOCATION:Bricks & Minifigs Canby
CATEGORIES:Costume Contest,FREE,Sale,Scavenger Hunt
ATTACH;FMTTYPE=image/jpeg:https://bricksandminifigs.com/canby-or/wp-content/uploads/sites/17/2019/10/Force-Friday-Web-Banner.jpg
END:VEVENT
END:VCALENDAR