BEGIN:VCALENDAR
VERSION:2.0
PRODID:-//Oregon – Canby - ECPv6.5.1.5//NONSGML v1.0//EN
CALSCALE:GREGORIAN
METHOD:PUBLISH
X-ORIGINAL-URL:https://bricksandminifigs.com/canby-or
X-WR-CALDESC:Events for Oregon – Canby
REFRESH-INTERVAL;VALUE=DURATION:PT1H
X-Robots-Tag:noindex
X-PUBLISHED-TTL:PT1H
BEGIN:VTIMEZONE
TZID:America/Los_Angeles
BEGIN:DAYLIGHT
TZOFFSETFROM:-0800
TZOFFSETTO:-0700
TZNAME:PDT
DTSTART:20190310T100000
END:DAYLIGHT
BEGIN:STANDARD
TZOFFSETFROM:-0700
TZOFFSETTO:-0800
TZNAME:PST
DTSTART:20191103T090000
END:STANDARD
END:VTIMEZONE
BEGIN:VEVENT
DTSTART;TZID=America/Los_Angeles:20191220T170000
DTEND;TZID=America/Los_Angeles:20191220T180000
DTSTAMP:20260425T191756
CREATED:20191211T202645Z
LAST-MODIFIED:20191211T202946Z
UID:3170-1576861200-1576864800@bricksandminifigs.com
SUMMARY:Holiday Make-n-Take Event!
DESCRIPTION:Please join us for our 2019 Holiday Make-n-Takes! \nWith 3 Exclusive Kits to choose from across four sessions\, we hope your family can make it to this fun LEGO building event! \n3 Kits to Choose From:\nPolar Bear on Iceberg (42 pcs): $5\nElf with Reindeer and Penguin (58 pcs): $10\nSanta & Mrs. Clause with Tree and Gifts (112 pcs): $15 \n\nBuild any kit during any session:\nFriday 12/20 at 5 pm\nSaturday 12/21 at 2:30 pm\nSaturday 12/21 at 4:30 pm\nMonday 12/23 at 5 pm \nEach participant will also receive a custom-printed collectible Bricks & Minifigs Event Tile to commemorate the event! \nSpace is limited so call (503) 263-3337 or stop in soon to register and guarantee your space! We hope you can make it! \nPlease note you are buying a space for a ticketed event that will likely sell out. If you are unable to attend the event we reserve the right to refund your admission to make room for another participant. Thank you for understanding.
URL:https://bricksandminifigs.com/canby-or/event/holiday-make-n-take-event/2019-12-20/
LOCATION:Bricks & Minifigs Canby
CATEGORIES:Building Activity,Make-n-Take
ATTACH;FMTTYPE=image/jpeg:https://bricksandminifigs.com/canby-or/wp-content/uploads/sites/17/2019/12/Holiday-2019-Brik-Figs.jpg
END:VEVENT
END:VCALENDAR