BEGIN:VCALENDAR
VERSION:2.0
PRODID:-//Texas – Austin - ECPv6.5.1.5//NONSGML v1.0//EN
CALSCALE:GREGORIAN
METHOD:PUBLISH
X-WR-CALNAME:Texas – Austin
X-ORIGINAL-URL:https://bricksandminifigs.com/austin-tx
X-WR-CALDESC:Events for Texas – Austin
REFRESH-INTERVAL;VALUE=DURATION:PT1H
X-Robots-Tag:noindex
X-PUBLISHED-TTL:PT1H
BEGIN:VTIMEZONE
TZID:America/Chicago
BEGIN:DAYLIGHT
TZOFFSETFROM:-0600
TZOFFSETTO:-0500
TZNAME:CDT
DTSTART:20250309T080000
END:DAYLIGHT
BEGIN:STANDARD
TZOFFSETFROM:-0500
TZOFFSETTO:-0600
TZNAME:CST
DTSTART:20251102T070000
END:STANDARD
END:VTIMEZONE
BEGIN:VEVENT
DTSTART;TZID=America/Chicago:20250721T100000
DTEND;TZID=America/Chicago:20250725T173000
DTSTAMP:20260425T215748
CREATED:20250424T194857Z
LAST-MODIFIED:20250424T194857Z
UID:10000248-1753092000-1753464600@bricksandminifigs.com
SUMMARY:Snapology Summer Camps
DESCRIPTION:https://embed.snapology.com/licensee/204/events/location
URL:https://bricksandminifigs.com/austin-tx/event/snapology-summer-camps-3/
LOCATION:BAM Austin\, 14010 Research Blvd\, Austin\, TX\, 78717\, United States
END:VEVENT
END:VCALENDAR