BEGIN:VCALENDAR
VERSION:2.0
PRODID:-//Texas – Austin - ECPv6.5.1.5//NONSGML v1.0//EN
CALSCALE:GREGORIAN
METHOD:PUBLISH
X-ORIGINAL-URL:https://bricksandminifigs.com/austin-tx
X-WR-CALDESC:Events for Texas – Austin
REFRESH-INTERVAL;VALUE=DURATION:PT1H
X-Robots-Tag:noindex
X-PUBLISHED-TTL:PT1H
BEGIN:VTIMEZONE
TZID:America/Denver
BEGIN:DAYLIGHT
TZOFFSETFROM:-0700
TZOFFSETTO:-0600
TZNAME:MDT
DTSTART:20240310T090000
END:DAYLIGHT
BEGIN:STANDARD
TZOFFSETFROM:-0600
TZOFFSETTO:-0700
TZNAME:MST
DTSTART:20241103T080000
END:STANDARD
END:VTIMEZONE
BEGIN:VEVENT
DTSTART;TZID=America/Denver:20240708T093000
DTEND;TZID=America/Denver:20240712T160000
DTSTAMP:20260424T054313
CREATED:20240317T172706Z
LAST-MODIFIED:20240317T172706Z
UID:10000236-1720431000-1720800000@bricksandminifigs.com
SUMMARY:Snapology Camp July 8-12
DESCRIPTION:
URL:https://bricksandminifigs.com/austin-tx/event/snapology-camp-july-8-12/
LOCATION:BAM Austin\, 14010 Research Blvd\, Austin\, TX\, 78717\, United States
ORGANIZER;CN="Snapology Cedar Park":MAILTO:cedarpark@snapology.com
END:VEVENT
END:VCALENDAR